BEGIN:VCALENDAR
VERSION:2.0
PRODID:-//Tuggeranong Good Shepherd Congregation, ACT - ECPv6.8.1//NONSGML v1.0//EN
CALSCALE:GREGORIAN
METHOD:PUBLISH
X-ORIGINAL-URL:https://tuggeranong.lutheran.org.au
X-WR-CALDESC:Events for Tuggeranong Good Shepherd Congregation, ACT
REFRESH-INTERVAL;VALUE=DURATION:PT1H
X-Robots-Tag:noindex
X-PUBLISHED-TTL:PT1H
BEGIN:VTIMEZONE
TZID:Australia/Sydney
BEGIN:STANDARD
TZOFFSETFROM:+1100
TZOFFSETTO:+1000
TZNAME:AEST
DTSTART:20230401T160000
END:STANDARD
BEGIN:DAYLIGHT
TZOFFSETFROM:+1000
TZOFFSETTO:+1100
TZNAME:AEDT
DTSTART:20230930T160000
END:DAYLIGHT
END:VTIMEZONE
BEGIN:VEVENT
DTSTART;TZID=Australia/Sydney:20230218T140000
DTEND;TZID=Australia/Sydney:20230218T160000
DTSTAMP:20260424T031201
CREATED:20230210T010218Z
LAST-MODIFIED:20230210T010218Z
UID:10006763-1676728800-1676736000@tuggeranong.lutheran.org.au
SUMMARY:Ladies Connect Group
DESCRIPTION:Join in the fellowship and devotion for the February meeting of the Ladies Connect women’s group. We will be meeting at the Botanic Gardens this time so please contact Jacqui or the office on Phone: (02)62925630 or Email: office@mygoodshepherd.org.au for more information.
URL:https://tuggeranong.lutheran.org.au/event/ladies-connect-group-4/
LOCATION:Australian National Botanic Gardens\, Clunies Ross Street\, Canberra\, ACT\, 2601\, Australia
CATEGORIES:Fellowship,Small Group,Women
ATTACH;FMTTYPE=image/jpeg:https://tuggeranong.lutheran.org.au/wp-content/uploads/sites/128/2021/04/LadiesConnect-4x3-1.jpg
GEO:-35.2774448;149.1128439
X-APPLE-STRUCTURED-LOCATION;VALUE=URI;X-ADDRESS=Australian National Botanic Gardens Clunies Ross Street Canberra ACT 2601 Australia;X-APPLE-RADIUS=500;X-TITLE=Clunies Ross Street:geo:149.1128439,-35.2774448
END:VEVENT
END:VCALENDAR