BEGIN:VCALENDAR
VERSION:2.0
PRODID:-//Tuggeranong Good Shepherd Congregation, ACT - ECPv6.8.1//NONSGML v1.0//EN
CALSCALE:GREGORIAN
METHOD:PUBLISH
X-WR-CALNAME:Tuggeranong Good Shepherd Congregation, ACT
X-ORIGINAL-URL:https://tuggeranong.lutheran.org.au
X-WR-CALDESC:Events for Tuggeranong Good Shepherd Congregation, ACT
REFRESH-INTERVAL;VALUE=DURATION:PT1H
X-Robots-Tag:noindex
X-PUBLISHED-TTL:PT1H
BEGIN:VTIMEZONE
TZID:Australia/Sydney
BEGIN:STANDARD
TZOFFSETFROM:+1100
TZOFFSETTO:+1000
TZNAME:AEST
DTSTART:20190406T160000
END:STANDARD
BEGIN:DAYLIGHT
TZOFFSETFROM:+1000
TZOFFSETTO:+1100
TZNAME:AEDT
DTSTART:20191005T160000
END:DAYLIGHT
TZID:UTC
BEGIN:STANDARD
TZOFFSETFROM:+0000
TZOFFSETTO:+0000
TZNAME:UTC
DTSTART:20190101T000000
END:STANDARD
END:VTIMEZONE
BEGIN:VEVENT
DTSTART;TZID=Australia/Sydney:20190811T173000
DTEND;TZID=Australia/Sydney:20190811T183000
DTSTAMP:20260420T012805
CREATED:20190626T060058Z
LAST-MODIFIED:20190626T060524Z
UID:10000577-1565544600-1565548200@tuggeranong.lutheran.org.au
SUMMARY:Sunday Soul Food
DESCRIPTION:COME ALL WHO ARE WEARY AND HEAVY LADEN \nCome along and enjoy a Bible study and chill out time. \nFortnightly – bring your own dinner and enjoy some fellowship as well. \nThis week – Mark 3:35\, Proverbs 21:3\, Romans 12:4-5
URL:https://tuggeranong.lutheran.org.au/event/sunday-soul-food-2-2019-08-11/
LOCATION:Good Shepherd Worship Centre\, Cnr Hambidge Cres & Proctor St\, Chisholm\, NSW\, 2905\, Australia
CATEGORIES:Bible Study
ATTACH;FMTTYPE=image/jpeg:https://tuggeranong.lutheran.org.au/wp-content/uploads/sites/128/2018/04/dreamstime_xxl_114149125-cropped-2.jpg
GEO:-35.4152899;149.1301963
X-APPLE-STRUCTURED-LOCATION;VALUE=URI;X-ADDRESS=Good Shepherd Worship Centre Cnr Hambidge Cres & Proctor St Chisholm NSW 2905 Australia;X-APPLE-RADIUS=500;X-TITLE=Cnr Hambidge Cres & Proctor St:geo:149.1301963,-35.4152899
END:VEVENT
BEGIN:VEVENT
DTSTART;TZID=Australia/Sydney:20190813T174500
DTEND;TZID=Australia/Sydney:20190813T213000
DTSTAMP:20260420T012805
CREATED:20190626T061120Z
LAST-MODIFIED:20190729T004235Z
UID:10000579-1565718300-1565731800@tuggeranong.lutheran.org.au
SUMMARY:Leadership Team Meeting
DESCRIPTION:5:45pm Leadership Meeting Prayer time – bring your dinner if you wish.\n6:45pm Leadership Team Meeting start time.\nALL WELCOME!
URL:https://tuggeranong.lutheran.org.au/event/leadership-team-meeting/2019-08-13/
LOCATION:Good Shepherd Worship Centre\, Cnr Hambidge Cres & Proctor St\, Chisholm\, NSW\, 2905\, Australia
CATEGORIES:Meetings
ORGANIZER;CN="Heidi Bernardo":MAILTO:secretary@mygoodshepherd.org.au
GEO:-35.4152899;149.1301963
X-APPLE-STRUCTURED-LOCATION;VALUE=URI;X-ADDRESS=Good Shepherd Worship Centre Cnr Hambidge Cres & Proctor St Chisholm NSW 2905 Australia;X-APPLE-RADIUS=500;X-TITLE=Cnr Hambidge Cres & Proctor St:geo:149.1301963,-35.4152899
END:VEVENT
BEGIN:VEVENT
DTSTART;TZID=Australia/Sydney:20190817T074500
DTEND;TZID=Australia/Sydney:20190817T090000
DTSTAMP:20260420T012805
CREATED:20190801T075518Z
LAST-MODIFIED:20190801T075518Z
UID:10003792-1566027900-1566032400@tuggeranong.lutheran.org.au
SUMMARY:Joint Tuggeranong Valley churches prayer breakfast
DESCRIPTION:The next quarterly joint Tuggeranong Valley churches prayer breakfast is on 17 August\, 7.45am at Lifestream Christian Fellowship\, 152 Langdon Ave\, Wanniassa ACT 2903. \nA simple breakfast will be provided.
URL:https://tuggeranong.lutheran.org.au/event/joint-tuggeranong-valley-churches-prayer-breakfast/
LOCATION:Lifestream Christian Fellowship\, 152 Langdon Ave\, Wanniassa\, Australian Capital Territory\, 2903\, Australia
CATEGORIES:Prayer
ATTACH;FMTTYPE=image/jpeg:https://tuggeranong.lutheran.org.au/wp-content/uploads/sites/128/2019/08/Lifestream.jpg
GEO:-35.4009527;149.0965075
X-APPLE-STRUCTURED-LOCATION;VALUE=URI;X-ADDRESS=Lifestream Christian Fellowship 152 Langdon Ave Wanniassa Australian Capital Territory 2903 Australia;X-APPLE-RADIUS=500;X-TITLE=152 Langdon Ave:geo:149.0965075,-35.4009527
END:VEVENT
BEGIN:VEVENT
DTSTART;TZID=UTC:20190818T093000
DTEND;TZID=UTC:20190818T110000
DTSTAMP:20260420T012805
CREATED:20180509T152509Z
LAST-MODIFIED:20190728T123933Z
UID:10003595-1566120600-1566126000@tuggeranong.lutheran.org.au
SUMMARY:Worship Service with Communion
DESCRIPTION:Theme:Esha-who? Eschatology and other things that scare pastors
URL:https://tuggeranong.lutheran.org.au/event/worship-service-communion-2019-03-17-2019-03-24-2019-06-16-2019-07-28-2019-08-18/
LOCATION:NSW
END:VEVENT
BEGIN:VEVENT
DTSTART;TZID=Australia/Sydney:20190821T100000
DTEND;TZID=Australia/Sydney:20190821T123000
DTSTAMP:20260420T012805
CREATED:20190729T005009Z
LAST-MODIFIED:20190729T005120Z
UID:10000584-1566381600-1566390600@tuggeranong.lutheran.org.au
SUMMARY:Operation Christmas Child Shoe Box Packing
DESCRIPTION:Trudy has advised she will be bringing in Shoe Boxes for those who wish to contribute again this year. \nAlso\, everyone (including children) are welcome to attend a SHOE BOX PACKING DAY.\n10am Wednesday 21st August at Queanbeyan Lutheran Church Hall\, 13-15 Kinkora Place. \nBring a plate to share for lunch. You are welcome to just help pack boxes at no cost\, or BYO items to pack (with stock items if needed) and/or include $10 per box for freight. \nCome along and join in fellowship with others for this worthy cause.
URL:https://tuggeranong.lutheran.org.au/event/christmas-child-shoe-box-packing/
LOCATION:NSW
CATEGORIES:Mission/Outreach/Charity
ATTACH;FMTTYPE=image/jpeg:https://tuggeranong.lutheran.org.au/wp-content/uploads/sites/128/2019/07/Operation-Christmas-Child-logo-300x243.jpg
END:VEVENT
BEGIN:VEVENT
DTSTART;TZID=Australia/Sydney:20190821T183000
DTEND;TZID=Australia/Sydney:20190821T200000
DTSTAMP:20260420T012805
CREATED:20190728T122110Z
LAST-MODIFIED:20200203T112754Z
UID:10001307-1566412200-1566417600@tuggeranong.lutheran.org.au
SUMMARY:Home Bible Study Group at Sharon's
DESCRIPTION:Share what’s happening in each other’s lives and dig deeper into The Word in a small group environment. \nHosted by Sharon Stephan\, who will provide a light meal to begin – please let her know if you are attending\, in particular if you have any allergies. It should all be plain cooking such as soups\, salads\, curry\, spaghetti Bol etc. (Please no need to bring anything except your Bible.) \n“And let us consider how we may spur one another on toward love and good deeds\, not giving up meeting together\, as some are in the habit of doing\, but encouraging one another  – and all the more as you see the Day approaching.”  Hebrews 10:24-25 \nBlessings Sharon
URL:https://tuggeranong.lutheran.org.au/event/home-bible-study-group-at-sharons/2019-08-21/
LOCATION:NSW
CATEGORIES:Bible Study
ATTACH;FMTTYPE=image/jpeg:https://tuggeranong.lutheran.org.au/wp-content/uploads/sites/128/2019/08/Bible_Study_Hebrews.jpg
END:VEVENT
BEGIN:VEVENT
DTSTART;TZID=UTC:20190825T093000
DTEND;TZID=UTC:20190825T110000
DTSTAMP:20260420T012805
CREATED:20180509T152509Z
LAST-MODIFIED:20190725T071736Z
UID:10003596-1566725400-1566730800@tuggeranong.lutheran.org.au
SUMMARY:Worship Service with Communion
DESCRIPTION:“The three main views of the end times” [Revelation 20]
URL:https://tuggeranong.lutheran.org.au/event/worship-service-communion-2019-03-17-2019-03-24-2019-06-16-2019-07-28-2019-08-25/
LOCATION:NSW
END:VEVENT
BEGIN:VEVENT
DTSTART;TZID=UTC:20190901T093000
DTEND;TZID=UTC:20190901T110000
DTSTAMP:20260420T012805
CREATED:20180509T152509Z
LAST-MODIFIED:20190729T013144Z
UID:10003597-1567330200-1567335600@tuggeranong.lutheran.org.au
SUMMARY:Worship Service with Communion
DESCRIPTION:
URL:https://tuggeranong.lutheran.org.au/event/worship-service-communion-2019-03-17-2019-03-24-2019-06-16-2019-07-28-2019-09-01/2019-09-01/
LOCATION:NSW
END:VEVENT
BEGIN:VEVENT
DTSTART;TZID=Australia/Sydney:20190901T153000
DTEND;TZID=Australia/Sydney:20190901T170000
DTSTAMP:20260420T012805
CREATED:20190805T111817Z
LAST-MODIFIED:20190805T111817Z
UID:10002497-1567351800-1567357200@tuggeranong.lutheran.org.au
SUMMARY:Band Jam!
DESCRIPTION:Are you interested in music ministry?\nDo you play an instrument and/or sing?\nDo you want to learn how to jam in a band? \nWhy not come along to: Band Jam. \nContact Natalie Smith for further details.
URL:https://tuggeranong.lutheran.org.au/event/band-jam-4/
LOCATION:Good Shepherd Worship Centre\, Cnr Hambidge Cres & Proctor St\, Chisholm\, NSW\, 2905\, Australia
CATEGORIES:Training/Development/Camps
ATTACH;FMTTYPE=image/jpeg:https://tuggeranong.lutheran.org.au/wp-content/uploads/sites/128/2019/08/Band-Jam-2019-09-01.jpg
GEO:-35.4152899;149.1301963
X-APPLE-STRUCTURED-LOCATION;VALUE=URI;X-ADDRESS=Good Shepherd Worship Centre Cnr Hambidge Cres & Proctor St Chisholm NSW 2905 Australia;X-APPLE-RADIUS=500;X-TITLE=Cnr Hambidge Cres & Proctor St:geo:149.1301963,-35.4152899
END:VEVENT
BEGIN:VEVENT
DTSTART;TZID=Australia/Sydney:20190904T183000
DTEND;TZID=Australia/Sydney:20190904T200000
DTSTAMP:20260420T012805
CREATED:20190728T122110Z
LAST-MODIFIED:20200203T112754Z
UID:10001308-1567621800-1567627200@tuggeranong.lutheran.org.au
SUMMARY:Home Bible Study Group at Sharon's
DESCRIPTION:Share what’s happening in each other’s lives and dig deeper into The Word in a small group environment. \nHosted by Sharon Stephan\, who will provide a light meal to begin – please let her know if you are attending\, in particular if you have any allergies. It should all be plain cooking such as soups\, salads\, curry\, spaghetti Bol etc. (Please no need to bring anything except your Bible.) \n“And let us consider how we may spur one another on toward love and good deeds\, not giving up meeting together\, as some are in the habit of doing\, but encouraging one another  – and all the more as you see the Day approaching.”  Hebrews 10:24-25 \nBlessings Sharon
URL:https://tuggeranong.lutheran.org.au/event/home-bible-study-group-at-sharons/2019-09-04/
LOCATION:NSW
CATEGORIES:Bible Study
ATTACH;FMTTYPE=image/jpeg:https://tuggeranong.lutheran.org.au/wp-content/uploads/sites/128/2019/08/Bible_Study_Hebrews.jpg
END:VEVENT
BEGIN:VEVENT
DTSTART;TZID=UTC:20190908T093000
DTEND;TZID=UTC:20190908T110000
DTSTAMP:20260420T012805
CREATED:20180509T152509Z
LAST-MODIFIED:20190729T013144Z
UID:10003598-1567935000-1567940400@tuggeranong.lutheran.org.au
SUMMARY:Worship Service with Communion
DESCRIPTION:
URL:https://tuggeranong.lutheran.org.au/event/worship-service-communion-2019-03-17-2019-03-24-2019-06-16-2019-07-28-2019-09-01/2019-09-08/
LOCATION:NSW
END:VEVENT
BEGIN:VEVENT
DTSTART;TZID=Australia/Sydney:20190910T174500
DTEND;TZID=Australia/Sydney:20190910T213000
DTSTAMP:20260420T012805
CREATED:20190626T061120Z
LAST-MODIFIED:20190729T004235Z
UID:10000580-1568137500-1568151000@tuggeranong.lutheran.org.au
SUMMARY:Leadership Team Meeting
DESCRIPTION:5:45pm Leadership Meeting Prayer time – bring your dinner if you wish.\n6:45pm Leadership Team Meeting start time.\nALL WELCOME!
URL:https://tuggeranong.lutheran.org.au/event/leadership-team-meeting/2019-09-10/
LOCATION:Good Shepherd Worship Centre\, Cnr Hambidge Cres & Proctor St\, Chisholm\, NSW\, 2905\, Australia
CATEGORIES:Meetings
ORGANIZER;CN="Heidi Bernardo":MAILTO:secretary@mygoodshepherd.org.au
GEO:-35.4152899;149.1301963
X-APPLE-STRUCTURED-LOCATION;VALUE=URI;X-ADDRESS=Good Shepherd Worship Centre Cnr Hambidge Cres & Proctor St Chisholm NSW 2905 Australia;X-APPLE-RADIUS=500;X-TITLE=Cnr Hambidge Cres & Proctor St:geo:149.1301963,-35.4152899
END:VEVENT
BEGIN:VEVENT
DTSTART;TZID=Australia/Sydney:20190914T140000
DTEND;TZID=Australia/Sydney:20190914T160000
DTSTAMP:20260420T012805
CREATED:20190911T015611Z
LAST-MODIFIED:20190911T015634Z
UID:10002490-1568469600-1568476800@tuggeranong.lutheran.org.au
SUMMARY:Ryan and Megan's engagement celebration
DESCRIPTION:Ryan and Megan recently announced their engagement and you are invited to join them in celebrating this truly wonderful event in their lives at Lennox Gardens (Lake Burley Griffin\, behind the Hyatt Hotel) from 2 pm this Saturday 14th September. \nPerhaps bring a plate to share if you can.
URL:https://tuggeranong.lutheran.org.au/event/ryan-and-megans-engagement-celebration/
LOCATION:NSW
CATEGORIES:Fellowship
ATTACH;FMTTYPE=image/jpeg:https://tuggeranong.lutheran.org.au/wp-content/uploads/sites/128/2019/09/Ryan-and-Megan.jpg
END:VEVENT
BEGIN:VEVENT
DTSTART;TZID=UTC:20190915T093000
DTEND;TZID=UTC:20190915T110000
DTSTAMP:20260420T012805
CREATED:20180509T152509Z
LAST-MODIFIED:20190729T013144Z
UID:10003599-1568539800-1568545200@tuggeranong.lutheran.org.au
SUMMARY:Worship Service with Communion
DESCRIPTION:
URL:https://tuggeranong.lutheran.org.au/event/worship-service-communion-2019-03-17-2019-03-24-2019-06-16-2019-07-28-2019-09-01/2019-09-15/
LOCATION:NSW
END:VEVENT
BEGIN:VEVENT
DTSTART;TZID=Australia/Sydney:20190915T110000
DTEND;TZID=Australia/Sydney:20190915T123000
DTSTAMP:20260420T012805
CREATED:20190911T020715Z
LAST-MODIFIED:20200204T221811Z
UID:10001455-1568545200-1568550600@tuggeranong.lutheran.org.au
SUMMARY:Life Community Small Group
DESCRIPTION:A Life Community Small Group meets after the morning service each Sunday
URL:https://tuggeranong.lutheran.org.au/event/life-community-small-group/2019-09-15/
LOCATION:Good Shepherd Worship Centre\, Cnr Hambidge Cres & Proctor St\, Chisholm\, NSW\, 2905\, Australia
CATEGORIES:Small Group
GEO:-35.4152899;149.1301963
X-APPLE-STRUCTURED-LOCATION;VALUE=URI;X-ADDRESS=Good Shepherd Worship Centre Cnr Hambidge Cres & Proctor St Chisholm NSW 2905 Australia;X-APPLE-RADIUS=500;X-TITLE=Cnr Hambidge Cres & Proctor St:geo:149.1301963,-35.4152899
END:VEVENT
BEGIN:VEVENT
DTSTART;TZID=Australia/Sydney:20190918T183000
DTEND;TZID=Australia/Sydney:20190918T200000
DTSTAMP:20260420T012805
CREATED:20190728T122110Z
LAST-MODIFIED:20200203T112754Z
UID:10001309-1568831400-1568836800@tuggeranong.lutheran.org.au
SUMMARY:Home Bible Study Group at Sharon's
DESCRIPTION:Share what’s happening in each other’s lives and dig deeper into The Word in a small group environment. \nHosted by Sharon Stephan\, who will provide a light meal to begin – please let her know if you are attending\, in particular if you have any allergies. It should all be plain cooking such as soups\, salads\, curry\, spaghetti Bol etc. (Please no need to bring anything except your Bible.) \n“And let us consider how we may spur one another on toward love and good deeds\, not giving up meeting together\, as some are in the habit of doing\, but encouraging one another  – and all the more as you see the Day approaching.”  Hebrews 10:24-25 \nBlessings Sharon
URL:https://tuggeranong.lutheran.org.au/event/home-bible-study-group-at-sharons/2019-09-18/
LOCATION:NSW
CATEGORIES:Bible Study
ATTACH;FMTTYPE=image/jpeg:https://tuggeranong.lutheran.org.au/wp-content/uploads/sites/128/2019/08/Bible_Study_Hebrews.jpg
END:VEVENT
BEGIN:VEVENT
DTSTART;TZID=Australia/Sydney:20190921T080000
DTEND;TZID=Australia/Sydney:20190921T120000
DTSTAMP:20260420T012805
CREATED:20190729T010249Z
LAST-MODIFIED:20190911T103348Z
UID:10003788-1569052800-1569067200@tuggeranong.lutheran.org.au
SUMMARY:Garage Sale
DESCRIPTION:Clear out the cupboards and garage for a worthy cause and start collecting for the day: items around like bric a brac\, clean clothing\, children’s items\, kitchen items\, books. In fact\, almost anything – but no computers or TV’s please. Please do not bring items if they are not in good condition or not working. \nItems can be dropped off in the foyer from Monday 16th. Please let Judy know if you have furniture. \nContact Judy for details of how you can help\, even if simply to chat with those who drop in.
URL:https://tuggeranong.lutheran.org.au/event/garage-sale-3/
LOCATION:Good Shepherd Worship Centre\, Cnr Hambidge Cres & Proctor St\, Chisholm\, NSW\, 2905\, Australia
CATEGORIES:Fundraising,Mission/Outreach/Charity
ATTACH;FMTTYPE=image/jpeg:https://tuggeranong.lutheran.org.au/wp-content/uploads/sites/128/2019/07/Garage-Sale.jpg
GEO:-35.4152899;149.1301963
X-APPLE-STRUCTURED-LOCATION;VALUE=URI;X-ADDRESS=Good Shepherd Worship Centre Cnr Hambidge Cres & Proctor St Chisholm NSW 2905 Australia;X-APPLE-RADIUS=500;X-TITLE=Cnr Hambidge Cres & Proctor St:geo:149.1301963,-35.4152899
END:VEVENT
BEGIN:VEVENT
DTSTART;TZID=UTC:20190922T093000
DTEND;TZID=UTC:20190922T110000
DTSTAMP:20260420T012805
CREATED:20180509T152509Z
LAST-MODIFIED:20190729T013144Z
UID:10003600-1569144600-1569150000@tuggeranong.lutheran.org.au
SUMMARY:Worship Service with Communion
DESCRIPTION:
URL:https://tuggeranong.lutheran.org.au/event/worship-service-communion-2019-03-17-2019-03-24-2019-06-16-2019-07-28-2019-09-01/2019-09-22/
LOCATION:NSW
END:VEVENT
BEGIN:VEVENT
DTSTART;TZID=Australia/Sydney:20190922T110000
DTEND;TZID=Australia/Sydney:20190922T123000
DTSTAMP:20260420T012805
CREATED:20190911T020715Z
LAST-MODIFIED:20200204T221811Z
UID:10001456-1569150000-1569155400@tuggeranong.lutheran.org.au
SUMMARY:Life Community Small Group
DESCRIPTION:A Life Community Small Group meets after the morning service each Sunday
URL:https://tuggeranong.lutheran.org.au/event/life-community-small-group/2019-09-22/
LOCATION:Good Shepherd Worship Centre\, Cnr Hambidge Cres & Proctor St\, Chisholm\, NSW\, 2905\, Australia
CATEGORIES:Small Group
GEO:-35.4152899;149.1301963
X-APPLE-STRUCTURED-LOCATION;VALUE=URI;X-ADDRESS=Good Shepherd Worship Centre Cnr Hambidge Cres & Proctor St Chisholm NSW 2905 Australia;X-APPLE-RADIUS=500;X-TITLE=Cnr Hambidge Cres & Proctor St:geo:149.1301963,-35.4152899
END:VEVENT
BEGIN:VEVENT
DTSTART;TZID=Australia/Sydney:20190922T173000
DTEND;TZID=Australia/Sydney:20190922T183000
DTSTAMP:20260420T012805
CREATED:20190917T124853Z
LAST-MODIFIED:20190917T124853Z
UID:10003811-1569173400-1569177000@tuggeranong.lutheran.org.au
SUMMARY:End Times Q&A
DESCRIPTION:Q & A session with Pastor Paul at 5.30pm this Sunday night on the five week End Times Sermon Series.
URL:https://tuggeranong.lutheran.org.au/event/end-times-qa/
LOCATION:Good Shepherd Worship Centre\, Cnr Hambidge Cres & Proctor St\, Chisholm\, NSW\, 2905\, Australia
CATEGORIES:Bible Study
ATTACH;FMTTYPE=image/jpeg:https://tuggeranong.lutheran.org.au/wp-content/uploads/sites/128/2019/09/EndTimes.jpg
ORGANIZER;CN="Pastor Paul":MAILTO:pastor@mygoodshepherd.org.au
GEO:-35.4152899;149.1301963
X-APPLE-STRUCTURED-LOCATION;VALUE=URI;X-ADDRESS=Good Shepherd Worship Centre Cnr Hambidge Cres & Proctor St Chisholm NSW 2905 Australia;X-APPLE-RADIUS=500;X-TITLE=Cnr Hambidge Cres & Proctor St:geo:149.1301963,-35.4152899
END:VEVENT
BEGIN:VEVENT
DTSTART;TZID=Australia/Sydney:20190922T173000
DTEND;TZID=Australia/Sydney:20190922T190000
DTSTAMP:20260420T012805
CREATED:20190911T015949Z
LAST-MODIFIED:20190917T125803Z
UID:10002492-1569173400-1569178800@tuggeranong.lutheran.org.au
SUMMARY:Soul Foodies small group - not this week
DESCRIPTION:In lieu\, Pastor Paul will be running a Q&A session on the End Times sermon series.
URL:https://tuggeranong.lutheran.org.au/event/soul-foodies-small-group/
LOCATION:Good Shepherd Worship Centre\, Cnr Hambidge Cres & Proctor St\, Chisholm\, NSW\, 2905\, Australia
CATEGORIES:Bible Study
ORGANIZER;CN="Pastor Paul":MAILTO:pastor@mygoodshepherd.org.au
GEO:-35.4152899;149.1301963
X-APPLE-STRUCTURED-LOCATION;VALUE=URI;X-ADDRESS=Good Shepherd Worship Centre Cnr Hambidge Cres & Proctor St Chisholm NSW 2905 Australia;X-APPLE-RADIUS=500;X-TITLE=Cnr Hambidge Cres & Proctor St:geo:149.1301963,-35.4152899
END:VEVENT
BEGIN:VEVENT
DTSTART;TZID=UTC:20190929T093000
DTEND;TZID=UTC:20190929T110000
DTSTAMP:20260420T012805
CREATED:20180509T152509Z
LAST-MODIFIED:20190802T000851Z
UID:10003786-1569749400-1569754800@tuggeranong.lutheran.org.au
SUMMARY:Worship Service with Communion
DESCRIPTION:Worship Service with communion. \nVisit by the Hayes Family\, David\, Janenne and Rachel  – missionaries from Canberra working in iKethelo Children’s Village in KwaZulu Natal\, South Africa.
URL:https://tuggeranong.lutheran.org.au/event/worship-service-communion-2019-03-17-2019-03-24-2019-06-16-2019-07-28-2019-09-01-2019-09-29/
LOCATION:Good Shepherd Lutheran Church\, Cnr Hambidge Cres & Proctor St\, Chisholm\, NSW\, 2905\, Australia
ATTACH;FMTTYPE=image/jpeg:https://tuggeranong.lutheran.org.au/wp-content/uploads/sites/128/2019/08/Hays_in-SAfrica.jpg
GEO:-35.4155194;149.1305528
X-APPLE-STRUCTURED-LOCATION;VALUE=URI;X-ADDRESS=Good Shepherd Lutheran Church Cnr Hambidge Cres & Proctor St Chisholm NSW 2905 Australia;X-APPLE-RADIUS=500;X-TITLE=Cnr Hambidge Cres & Proctor St:geo:149.1305528,-35.4155194
END:VEVENT
BEGIN:VEVENT
DTSTART;TZID=Australia/Sydney:20190929T110000
DTEND;TZID=Australia/Sydney:20190929T123000
DTSTAMP:20260420T012805
CREATED:20190911T020715Z
LAST-MODIFIED:20200204T221811Z
UID:10001457-1569754800-1569760200@tuggeranong.lutheran.org.au
SUMMARY:Life Community Small Group
DESCRIPTION:A Life Community Small Group meets after the morning service each Sunday
URL:https://tuggeranong.lutheran.org.au/event/life-community-small-group/2019-09-29/
LOCATION:Good Shepherd Worship Centre\, Cnr Hambidge Cres & Proctor St\, Chisholm\, NSW\, 2905\, Australia
CATEGORIES:Small Group
GEO:-35.4152899;149.1301963
X-APPLE-STRUCTURED-LOCATION;VALUE=URI;X-ADDRESS=Good Shepherd Worship Centre Cnr Hambidge Cres & Proctor St Chisholm NSW 2905 Australia;X-APPLE-RADIUS=500;X-TITLE=Cnr Hambidge Cres & Proctor St:geo:149.1301963,-35.4152899
END:VEVENT
BEGIN:VEVENT
DTSTART;TZID=Australia/Sydney:20191002T183000
DTEND;TZID=Australia/Sydney:20191002T200000
DTSTAMP:20260420T012805
CREATED:20190728T122110Z
LAST-MODIFIED:20190926T125136Z
UID:10003793-1570041000-1570046400@tuggeranong.lutheran.org.au
SUMMARY:Home Bible Study Group at Sharon's – In recess this week
DESCRIPTION:No meeting this week – in recess for the school holidays \n\nShare what’s happening in each other’s lives and dig deeper into The Word in a small group environment. \nHosted by Sharon Stephan\, who will provide a light meal to begin – please let her know if you are attending\, in particular if you have any allergies. It should all be plain cooking such as soups\, salads\, curry\, spaghetti Bol etc. (Please no need to bring anything except your Bible.) \n“And let us consider how we may spur one another on toward love and good deeds\, not giving up meeting together\, as some are in the habit of doing\, but encouraging one another  – and all the more as you see the Day approaching.”  Hebrews 10:24-25 \nBlessings Sharon
URL:https://tuggeranong.lutheran.org.au/event/home-bible-study-group-at-sharons-2019-10-02/
LOCATION:NSW
CATEGORIES:Bible Study
ATTACH;FMTTYPE=image/jpeg:https://tuggeranong.lutheran.org.au/wp-content/uploads/sites/128/2019/08/Bible_Study_Hebrews.jpg
END:VEVENT
BEGIN:VEVENT
DTSTART;TZID=Australia/Sydney:20191004T183000
DTEND;TZID=Australia/Sydney:20191006T140000
DTSTAMP:20260420T012805
CREATED:20190729T020810Z
LAST-MODIFIED:20190729T021721Z
UID:10003789-1570213800-1570370400@tuggeranong.lutheran.org.au
SUMMARY:Warrambui's 50th Anniversary Celebration Weekend
DESCRIPTION:WARRAMBUI’S 50th ANNIVERSAY CELEBRATION WEEKEND – 4-6 OCTOBER 2019 \nThis weekend will gather people from all over Australia who have been part of Warrambui’s journey over the past 50 years. In 2019\, Warrambui Retreat and Conference Centre celebrates 50 years since the purchase of the land\, under the theme ‘A seed was planted’. \nOur Celebration Weekend will be held at Warrambui on the weekend of 4-6 October 2019. Registrations are now open. \nIf you would like to stay at Warrambui\, the cost is $70 per adult or $150 for a family (children under 18 must be accompanied and supervised by a parent/guardian). \nTogether we will praise and thank God for the blessings he has brought to people’s lives through the ministry of Warrambui.  \nRegister online at www.warrambui.com.au/50years\n\nPlaces are limited – avoid disappointment.
URL:https://tuggeranong.lutheran.org.au/event/warrambuis-50th-anniversary-celebration-weekend/
LOCATION:Warrambui Retreat and Conference Centre\, 322 Greenwood Road\, Murrumbateman\, ACT\, 2582\, Australia
CATEGORIES:Training/Development/Camps
ATTACH;FMTTYPE=image/gif:https://tuggeranong.lutheran.org.au/wp-content/uploads/sites/128/2019/07/warrambui-logo.gif
GEO:-34.9455763;149.0863503
X-APPLE-STRUCTURED-LOCATION;VALUE=URI;X-ADDRESS=Warrambui Retreat and Conference Centre 322 Greenwood Road Murrumbateman ACT 2582 Australia;X-APPLE-RADIUS=500;X-TITLE=322 Greenwood Road:geo:149.0863503,-34.9455763
END:VEVENT
BEGIN:VEVENT
DTSTART;TZID=UTC:20191006T093000
DTEND;TZID=UTC:20191006T110000
DTSTAMP:20260420T012805
CREATED:20180509T152509Z
LAST-MODIFIED:20190729T013144Z
UID:10003601-1570354200-1570359600@tuggeranong.lutheran.org.au
SUMMARY:Worship Service with Communion
DESCRIPTION:
URL:https://tuggeranong.lutheran.org.au/event/worship-service-communion-2019-03-17-2019-03-24-2019-06-16-2019-07-28-2019-09-01/2019-10-06/
LOCATION:NSW
END:VEVENT
BEGIN:VEVENT
DTSTART;TZID=Australia/Sydney:20191006T110000
DTEND;TZID=Australia/Sydney:20191006T123000
DTSTAMP:20260420T012805
CREATED:20190911T020715Z
LAST-MODIFIED:20200204T221811Z
UID:10001458-1570359600-1570365000@tuggeranong.lutheran.org.au
SUMMARY:Life Community Small Group
DESCRIPTION:A Life Community Small Group meets after the morning service each Sunday
URL:https://tuggeranong.lutheran.org.au/event/life-community-small-group/2019-10-06/
LOCATION:Good Shepherd Worship Centre\, Cnr Hambidge Cres & Proctor St\, Chisholm\, NSW\, 2905\, Australia
CATEGORIES:Small Group
GEO:-35.4152899;149.1301963
X-APPLE-STRUCTURED-LOCATION;VALUE=URI;X-ADDRESS=Good Shepherd Worship Centre Cnr Hambidge Cres & Proctor St Chisholm NSW 2905 Australia;X-APPLE-RADIUS=500;X-TITLE=Cnr Hambidge Cres & Proctor St:geo:149.1301963,-35.4152899
END:VEVENT
BEGIN:VEVENT
DTSTART;TZID=Australia/Sydney:20191007T183000
DTEND;TZID=Australia/Sydney:20191007T203000
DTSTAMP:20260420T012805
CREATED:20190729T003609Z
LAST-MODIFIED:20190926T124638Z
UID:10001121-1570473000-1570480200@tuggeranong.lutheran.org.au
SUMMARY:Shed Night
DESCRIPTION:Southside men’s Shed Night meets on the first Monday of the month for men of all ages who want to get real. \nGood tucker\, softies and tea/coffee provided. $10 donation towards costs for those who can afford it. \nFor more info\, speak with Kevin\, Hans or Don.
URL:https://tuggeranong.lutheran.org.au/event/shed-night-2-2019-10-07/
LOCATION:NSW
CATEGORIES:Men
ATTACH;FMTTYPE=image/jpeg:https://tuggeranong.lutheran.org.au/wp-content/uploads/sites/128/2018/04/shed1.jpg
END:VEVENT
BEGIN:VEVENT
DTSTART;TZID=Australia/Sydney:20191008T174500
DTEND;TZID=Australia/Sydney:20191008T213000
DTSTAMP:20260420T012805
CREATED:20190626T061120Z
LAST-MODIFIED:20190729T004235Z
UID:10000581-1570556700-1570570200@tuggeranong.lutheran.org.au
SUMMARY:Leadership Team Meeting
DESCRIPTION:5:45pm Leadership Meeting Prayer time – bring your dinner if you wish.\n6:45pm Leadership Team Meeting start time.\nALL WELCOME!
URL:https://tuggeranong.lutheran.org.au/event/leadership-team-meeting/2019-10-08/
LOCATION:Good Shepherd Worship Centre\, Cnr Hambidge Cres & Proctor St\, Chisholm\, NSW\, 2905\, Australia
CATEGORIES:Meetings
ORGANIZER;CN="Heidi Bernardo":MAILTO:secretary@mygoodshepherd.org.au
GEO:-35.4152899;149.1301963
X-APPLE-STRUCTURED-LOCATION;VALUE=URI;X-ADDRESS=Good Shepherd Worship Centre Cnr Hambidge Cres & Proctor St Chisholm NSW 2905 Australia;X-APPLE-RADIUS=500;X-TITLE=Cnr Hambidge Cres & Proctor St:geo:149.1301963,-35.4152899
END:VEVENT
BEGIN:VEVENT
DTSTART;TZID=Australia/Sydney:20191012T100000
DTEND;TZID=Australia/Sydney:20191012T120000
DTSTAMP:20260420T012805
CREATED:20191002T050303Z
LAST-MODIFIED:20191002T050303Z
UID:10003797-1570874400-1570881600@tuggeranong.lutheran.org.au
SUMMARY:Community Garden working bee
DESCRIPTION:Our application for a Community Garden Grant from the ACT Government has been successful. Praise the Lord. This grant will allow us to build a Community Vegetable Garden in the backyard of the Church.  \nThis is a fantastic opportunity to reach out into our community and also to support our Bread Night Ministry by provide fresh seasonal vegetables in addition to the bread. \nThe first working bee to start building the Community Garden will be held on Saturday 12 October starting at 10.00am. \nPlease bring a hat and a smile and be ready for a couple of hours work. Contact Ron Weber for more details. \nImage source: https://upload.wikimedia.org/wikipedia/commons/thumb/1/14/Community_vegetable_garden_in_Portland%2C_US%2C.jpg
URL:https://tuggeranong.lutheran.org.au/event/community-garden-working-bee/
LOCATION:Good Shepherd Lutheran Church\, Cnr Hambidge Cres & Proctor St\, Chisholm\, NSW\, 2905\, Australia
CATEGORIES:Working bee
ATTACH;FMTTYPE=image/jpeg:https://tuggeranong.lutheran.org.au/wp-content/uploads/sites/128/2019/10/Community_vegetable_garden.jpg
GEO:-35.4155194;149.1305528
X-APPLE-STRUCTURED-LOCATION;VALUE=URI;X-ADDRESS=Good Shepherd Lutheran Church Cnr Hambidge Cres & Proctor St Chisholm NSW 2905 Australia;X-APPLE-RADIUS=500;X-TITLE=Cnr Hambidge Cres & Proctor St:geo:149.1305528,-35.4155194
END:VEVENT
END:VCALENDAR