BEGIN:VCALENDAR
VERSION:2.0
PRODID:-//Tuggeranong Good Shepherd Congregation, ACT - ECPv6.8.1//NONSGML v1.0//EN
CALSCALE:GREGORIAN
METHOD:PUBLISH
X-WR-CALNAME:Tuggeranong Good Shepherd Congregation, ACT
X-ORIGINAL-URL:https://tuggeranong.lutheran.org.au
X-WR-CALDESC:Events for Tuggeranong Good Shepherd Congregation, ACT
REFRESH-INTERVAL;VALUE=DURATION:PT1H
X-Robots-Tag:noindex
X-PUBLISHED-TTL:PT1H
BEGIN:VTIMEZONE
TZID:Australia/Sydney
BEGIN:STANDARD
TZOFFSETFROM:+1100
TZOFFSETTO:+1000
TZNAME:AEST
DTSTART:20250405T160000
END:STANDARD
BEGIN:DAYLIGHT
TZOFFSETFROM:+1000
TZOFFSETTO:+1100
TZNAME:AEDT
DTSTART:20251004T160000
END:DAYLIGHT
END:VTIMEZONE
BEGIN:VEVENT
DTSTART;TZID=Australia/Sydney:20250831T103000
DTEND;TZID=Australia/Sydney:20250831T123000
DTSTAMP:20260422T042850
CREATED:20250730T002541Z
LAST-MODIFIED:20250730T002541Z
UID:10041267-1756636200-1756643400@tuggeranong.lutheran.org.au
SUMMARY:Annual General Meeting
DESCRIPTION:Good Shepherd Annual General Meeting will be held after worship on Sunday 31 August\, including nominations for the Ministry Team. This will be followed by lunch at the Vikings. We encourage all members and friends to attend this important meeting and fellowship afterwards.
URL:https://tuggeranong.lutheran.org.au/event/annual-general-meeting-5/
LOCATION:Good Shepherd Worship Centre\, Cnr Hambidge Cres & Proctor St\, Chisholm\, NSW\, 2905\, Australia
CATEGORIES:Fellowship,Meetings
ATTACH;FMTTYPE=image/jpeg:https://tuggeranong.lutheran.org.au/wp-content/uploads/sites/128/2025/07/Website-AGM.jpg
GEO:-35.4152899;149.1301963
X-APPLE-STRUCTURED-LOCATION;VALUE=URI;X-ADDRESS=Good Shepherd Worship Centre Cnr Hambidge Cres & Proctor St Chisholm NSW 2905 Australia;X-APPLE-RADIUS=500;X-TITLE=Cnr Hambidge Cres & Proctor St:geo:149.1301963,-35.4152899
END:VEVENT
END:VCALENDAR