BEGIN:VCALENDAR
VERSION:2.0
PRODID:-//Tuggeranong Good Shepherd Congregation, ACT - ECPv6.8.1//NONSGML v1.0//EN
CALSCALE:GREGORIAN
METHOD:PUBLISH
X-ORIGINAL-URL:https://tuggeranong.lutheran.org.au
X-WR-CALDESC:Events for Tuggeranong Good Shepherd Congregation, ACT
REFRESH-INTERVAL;VALUE=DURATION:PT1H
X-Robots-Tag:noindex
X-PUBLISHED-TTL:PT1H
BEGIN:VTIMEZONE
TZID:Australia/Sydney
BEGIN:STANDARD
TZOFFSETFROM:+1100
TZOFFSETTO:+1000
TZNAME:AEST
DTSTART:20260404T160000
END:STANDARD
BEGIN:DAYLIGHT
TZOFFSETFROM:+1000
TZOFFSETTO:+1100
TZNAME:AEDT
DTSTART:20261003T160000
END:DAYLIGHT
END:VTIMEZONE
BEGIN:VEVENT
DTSTART;TZID=Australia/Sydney:20260101T091500
DTEND;TZID=Australia/Sydney:20260101T110000
DTSTAMP:20260422T085749
CREATED:20241211T012425Z
LAST-MODIFIED:20251210T004821Z
UID:10039990-1767258900-1767265200@tuggeranong.lutheran.org.au
SUMMARY:Walk\, Talk\, Pray
DESCRIPTION:Come along to Walk\, Talk Pray and combine fresh air\, exercise and prayer – each Thursday\, meeting at 9.15 am at the Worship Centre. Stay on for coffee afterwards if you wish.
URL:https://tuggeranong.lutheran.org.au/event/walk-talk-pray/2026-01-01/
LOCATION:Good Shepherd Worship Centre\, Cnr Hambidge Cres & Proctor St\, Chisholm\, NSW\, 2905\, Australia
CATEGORIES:Fellowship
ATTACH;FMTTYPE=image/jpeg:https://tuggeranong.lutheran.org.au/wp-content/uploads/sites/128/2021/03/Walking-800.jpg
GEO:-35.4152899;149.1301963
X-APPLE-STRUCTURED-LOCATION;VALUE=URI;X-ADDRESS=Good Shepherd Worship Centre Cnr Hambidge Cres & Proctor St Chisholm NSW 2905 Australia;X-APPLE-RADIUS=500;X-TITLE=Cnr Hambidge Cres & Proctor St:geo:149.1301963,-35.4152899
END:VEVENT
BEGIN:VEVENT
DTSTART;TZID=Australia/Sydney:20260101T104500
DTEND;TZID=Australia/Sydney:20260101T111500
DTSTAMP:20260422T085750
CREATED:20241211T011647Z
LAST-MODIFIED:20251210T004853Z
UID:10006558-1767264300-1767266100@tuggeranong.lutheran.org.au
SUMMARY:Coffee and Chat
DESCRIPTION:Join us for a barista coffee and fellowship directly after the LDK worship service.
URL:https://tuggeranong.lutheran.org.au/event/coffee-and-chat-2/2026-01-01/
LOCATION:LDK Greenway Views\, 260 Soward Way\, Greenway\, Australian Capital Territory\, 2900\, Australia
CATEGORIES:Fellowship
ATTACH;FMTTYPE=image/jpeg:https://tuggeranong.lutheran.org.au/wp-content/uploads/sites/128/2022/02/coffee-and-chat.jpg
ORGANIZER;CN="Pastor Paul":MAILTO:pastor@mygoodshepherd.org.au
GEO:-35.4197317;149.0632525
X-APPLE-STRUCTURED-LOCATION;VALUE=URI;X-ADDRESS=LDK Greenway Views 260 Soward Way Greenway Australian Capital Territory 2900 Australia;X-APPLE-RADIUS=500;X-TITLE=260 Soward Way:geo:149.0632525,-35.4197317
END:VEVENT
END:VCALENDAR