BEGIN:VCALENDAR
VERSION:2.0
PRODID:-//Tuggeranong Good Shepherd Congregation, ACT - ECPv6.8.1//NONSGML v1.0//EN
CALSCALE:GREGORIAN
METHOD:PUBLISH
X-WR-CALNAME:Tuggeranong Good Shepherd Congregation, ACT
X-ORIGINAL-URL:https://tuggeranong.lutheran.org.au
X-WR-CALDESC:Events for Tuggeranong Good Shepherd Congregation, ACT
REFRESH-INTERVAL;VALUE=DURATION:PT1H
X-Robots-Tag:noindex
X-PUBLISHED-TTL:PT1H
BEGIN:VTIMEZONE
TZID:Australia/Sydney
BEGIN:STANDARD
TZOFFSETFROM:+1100
TZOFFSETTO:+1000
TZNAME:AEST
DTSTART:20260404T160000
END:STANDARD
BEGIN:DAYLIGHT
TZOFFSETFROM:+1000
TZOFFSETTO:+1100
TZNAME:AEDT
DTSTART:20261003T160000
END:DAYLIGHT
END:VTIMEZONE
BEGIN:VEVENT
DTSTART;TZID=Australia/Sydney:20260304T100000
DTEND;TZID=Australia/Sydney:20260304T120000
DTSTAMP:20260422T111138
CREATED:20251205T013753Z
LAST-MODIFIED:20251205T013753Z
UID:10041553-1772618400-1772625600@tuggeranong.lutheran.org.au
SUMMARY:Coffee and craft
DESCRIPTION:COME ALONG WITH YOUR CRAFT ITEMS YOU ARE WORKING ON – Knitting\, crocheting\, cross stitch\, painting\, etc. and relax with others. Even if you do not have a craft item you are welcome to come along and chat. Please contact the office for more details. Phone 02) 62925630 or email office@mygoodshepherd.org.au
URL:https://tuggeranong.lutheran.org.au/event/coffee-and-craft-5/2026-03-04/
LOCATION:Good Shepherd Worship Centre\, Cnr Hambidge Cres & Proctor St\, Chisholm\, NSW\, 2905\, Australia
CATEGORIES:Fellowship,Small Group
ATTACH;FMTTYPE=image/jpeg:https://tuggeranong.lutheran.org.au/wp-content/uploads/sites/128/2022/01/Craft-and-coffee-mornings-image.jpg
GEO:-35.4152899;149.1301963
X-APPLE-STRUCTURED-LOCATION;VALUE=URI;X-ADDRESS=Good Shepherd Worship Centre Cnr Hambidge Cres & Proctor St Chisholm NSW 2905 Australia;X-APPLE-RADIUS=500;X-TITLE=Cnr Hambidge Cres & Proctor St:geo:149.1301963,-35.4152899
END:VEVENT
BEGIN:VEVENT
DTSTART;TZID=Australia/Sydney:20260305T091500
DTEND;TZID=Australia/Sydney:20260305T110000
DTSTAMP:20260422T111138
CREATED:20241211T012425Z
LAST-MODIFIED:20251210T004821Z
UID:10039999-1772702100-1772708400@tuggeranong.lutheran.org.au
SUMMARY:Walk\, Talk\, Pray
DESCRIPTION:Come along to Walk\, Talk Pray and combine fresh air\, exercise and prayer – each Thursday\, meeting at 9.15 am at the Worship Centre. Stay on for coffee afterwards if you wish.
URL:https://tuggeranong.lutheran.org.au/event/walk-talk-pray/2026-03-05/
LOCATION:Good Shepherd Worship Centre\, Cnr Hambidge Cres & Proctor St\, Chisholm\, NSW\, 2905\, Australia
CATEGORIES:Fellowship
ATTACH;FMTTYPE=image/jpeg:https://tuggeranong.lutheran.org.au/wp-content/uploads/sites/128/2021/03/Walking-800.jpg
GEO:-35.4152899;149.1301963
X-APPLE-STRUCTURED-LOCATION;VALUE=URI;X-ADDRESS=Good Shepherd Worship Centre Cnr Hambidge Cres & Proctor St Chisholm NSW 2905 Australia;X-APPLE-RADIUS=500;X-TITLE=Cnr Hambidge Cres & Proctor St:geo:149.1301963,-35.4152899
END:VEVENT
BEGIN:VEVENT
DTSTART;TZID=Australia/Sydney:20260305T104500
DTEND;TZID=Australia/Sydney:20260305T111500
DTSTAMP:20260422T111138
CREATED:20241211T011647Z
LAST-MODIFIED:20251210T004853Z
UID:10006567-1772707500-1772709300@tuggeranong.lutheran.org.au
SUMMARY:Coffee and Chat
DESCRIPTION:Join us for a barista coffee and fellowship directly after the LDK worship service.
URL:https://tuggeranong.lutheran.org.au/event/coffee-and-chat-2/2026-03-05/
LOCATION:LDK Greenway Views\, 260 Soward Way\, Greenway\, Australian Capital Territory\, 2900\, Australia
CATEGORIES:Fellowship
ATTACH;FMTTYPE=image/jpeg:https://tuggeranong.lutheran.org.au/wp-content/uploads/sites/128/2022/02/coffee-and-chat.jpg
ORGANIZER;CN="Pastor Paul":MAILTO:pastor@mygoodshepherd.org.au
GEO:-35.4197317;149.0632525
X-APPLE-STRUCTURED-LOCATION;VALUE=URI;X-ADDRESS=LDK Greenway Views 260 Soward Way Greenway Australian Capital Territory 2900 Australia;X-APPLE-RADIUS=500;X-TITLE=260 Soward Way:geo:149.0632525,-35.4197317
END:VEVENT
BEGIN:VEVENT
DTSTART;TZID=Australia/Sydney:20260305T180000
DTEND;TZID=Australia/Sydney:20260305T193000
DTSTAMP:20260422T111138
CREATED:20240130T234845Z
LAST-MODIFIED:20260305T225935Z
UID:10015041-1772733600-1772739000@tuggeranong.lutheran.org.au
SUMMARY:Dinner Church
DESCRIPTION:Dinner Church will be a worship service that includes dinner and a focus on fellowship. All are invited to attend\, especially those who may be hesitant to attend a more formal service. Includes Holy Communion. Enquiries please email: zakaryhw@gmail.com
URL:https://tuggeranong.lutheran.org.au/event/dinner-church/2026-03-05/
LOCATION:Good Shepherd Worship Centre\, Cnr Hambidge Cres & Proctor St\, Chisholm\, NSW\, 2905\, Australia
CATEGORIES:Fellowship
ATTACH;FMTTYPE=image/png:https://tuggeranong.lutheran.org.au/wp-content/uploads/sites/128/2024/01/DinnerChurchFlyer_Ongoing.png
ORGANIZER;CN="Zak Huggett-Wright":MAILTO:zakaryhw@gmail.com
GEO:-35.4152899;149.1301963
X-APPLE-STRUCTURED-LOCATION;VALUE=URI;X-ADDRESS=Good Shepherd Worship Centre Cnr Hambidge Cres & Proctor St Chisholm NSW 2905 Australia;X-APPLE-RADIUS=500;X-TITLE=Cnr Hambidge Cres & Proctor St:geo:149.1301963,-35.4152899
END:VEVENT
BEGIN:VEVENT
DTSTART;TZID=Australia/Sydney:20260307T140000
DTEND;TZID=Australia/Sydney:20260307T160000
DTSTAMP:20260422T111138
CREATED:20251126T010730Z
LAST-MODIFIED:20251210T005304Z
UID:10041470-1772892000-1772899200@tuggeranong.lutheran.org.au
SUMMARY:Ladies Connect
DESCRIPTION:A welcoming group of women meet at Ladies Connect on the first Saturday of each month at 2pm for fellowship\, varied activities\, a devotion and afternoon tea. The group usually meets at the worship centre although the venue is confirmed by email a week prior. Please let the office know if you would like more information. Email: office@mygoodshepherd.org.au
URL:https://tuggeranong.lutheran.org.au/event/ladies-connect-2/2026-03-07/
LOCATION:Good Shepherd Worship Centre\, Cnr Hambidge Cres & Proctor St\, Chisholm\, NSW\, 2905\, Australia
CATEGORIES:Fellowship,Mission/Outreach/Charity,Small Group,Women
ATTACH;FMTTYPE=image/jpeg:https://tuggeranong.lutheran.org.au/wp-content/uploads/sites/128/2025/07/Ladies-Connect-website.jpg
ORGANIZER;CN="Janelle Spann":MAILTO:office@mygoodshepherd.org.au
GEO:-35.4152899;149.1301963
X-APPLE-STRUCTURED-LOCATION;VALUE=URI;X-ADDRESS=Good Shepherd Worship Centre Cnr Hambidge Cres & Proctor St Chisholm NSW 2905 Australia;X-APPLE-RADIUS=500;X-TITLE=Cnr Hambidge Cres & Proctor St:geo:149.1301963,-35.4152899
END:VEVENT
BEGIN:VEVENT
DTSTART;TZID=Australia/Sydney:20260312T091500
DTEND;TZID=Australia/Sydney:20260312T110000
DTSTAMP:20260422T111138
CREATED:20241211T012425Z
LAST-MODIFIED:20251210T004821Z
UID:10040000-1773306900-1773313200@tuggeranong.lutheran.org.au
SUMMARY:Walk\, Talk\, Pray
DESCRIPTION:Come along to Walk\, Talk Pray and combine fresh air\, exercise and prayer – each Thursday\, meeting at 9.15 am at the Worship Centre. Stay on for coffee afterwards if you wish.
URL:https://tuggeranong.lutheran.org.au/event/walk-talk-pray/2026-03-12/
LOCATION:Good Shepherd Worship Centre\, Cnr Hambidge Cres & Proctor St\, Chisholm\, NSW\, 2905\, Australia
CATEGORIES:Fellowship
ATTACH;FMTTYPE=image/jpeg:https://tuggeranong.lutheran.org.au/wp-content/uploads/sites/128/2021/03/Walking-800.jpg
GEO:-35.4152899;149.1301963
X-APPLE-STRUCTURED-LOCATION;VALUE=URI;X-ADDRESS=Good Shepherd Worship Centre Cnr Hambidge Cres & Proctor St Chisholm NSW 2905 Australia;X-APPLE-RADIUS=500;X-TITLE=Cnr Hambidge Cres & Proctor St:geo:149.1301963,-35.4152899
END:VEVENT
BEGIN:VEVENT
DTSTART;TZID=Australia/Sydney:20260312T104500
DTEND;TZID=Australia/Sydney:20260312T111500
DTSTAMP:20260422T111138
CREATED:20241211T011647Z
LAST-MODIFIED:20251210T004853Z
UID:10006568-1773312300-1773314100@tuggeranong.lutheran.org.au
SUMMARY:Coffee and Chat
DESCRIPTION:Join us for a barista coffee and fellowship directly after the LDK worship service.
URL:https://tuggeranong.lutheran.org.au/event/coffee-and-chat-2/2026-03-12/
LOCATION:LDK Greenway Views\, 260 Soward Way\, Greenway\, Australian Capital Territory\, 2900\, Australia
CATEGORIES:Fellowship
ATTACH;FMTTYPE=image/jpeg:https://tuggeranong.lutheran.org.au/wp-content/uploads/sites/128/2022/02/coffee-and-chat.jpg
ORGANIZER;CN="Pastor Paul":MAILTO:pastor@mygoodshepherd.org.au
GEO:-35.4197317;149.0632525
X-APPLE-STRUCTURED-LOCATION;VALUE=URI;X-ADDRESS=LDK Greenway Views 260 Soward Way Greenway Australian Capital Territory 2900 Australia;X-APPLE-RADIUS=500;X-TITLE=260 Soward Way:geo:149.0632525,-35.4197317
END:VEVENT
BEGIN:VEVENT
DTSTART;TZID=Australia/Sydney:20260312T180000
DTEND;TZID=Australia/Sydney:20260312T193000
DTSTAMP:20260422T111138
CREATED:20240130T234845Z
LAST-MODIFIED:20260305T225935Z
UID:10015042-1773338400-1773343800@tuggeranong.lutheran.org.au
SUMMARY:Dinner Church
DESCRIPTION:Dinner Church will be a worship service that includes dinner and a focus on fellowship. All are invited to attend\, especially those who may be hesitant to attend a more formal service. Includes Holy Communion. Enquiries please email: zakaryhw@gmail.com
URL:https://tuggeranong.lutheran.org.au/event/dinner-church/2026-03-12/
LOCATION:Good Shepherd Worship Centre\, Cnr Hambidge Cres & Proctor St\, Chisholm\, NSW\, 2905\, Australia
CATEGORIES:Fellowship
ATTACH;FMTTYPE=image/png:https://tuggeranong.lutheran.org.au/wp-content/uploads/sites/128/2024/01/DinnerChurchFlyer_Ongoing.png
ORGANIZER;CN="Zak Huggett-Wright":MAILTO:zakaryhw@gmail.com
GEO:-35.4152899;149.1301963
X-APPLE-STRUCTURED-LOCATION;VALUE=URI;X-ADDRESS=Good Shepherd Worship Centre Cnr Hambidge Cres & Proctor St Chisholm NSW 2905 Australia;X-APPLE-RADIUS=500;X-TITLE=Cnr Hambidge Cres & Proctor St:geo:149.1301963,-35.4152899
END:VEVENT
BEGIN:VEVENT
DTSTART;TZID=Australia/Sydney:20260318T100000
DTEND;TZID=Australia/Sydney:20260318T120000
DTSTAMP:20260422T111139
CREATED:20251205T013753Z
LAST-MODIFIED:20251205T013753Z
UID:10041554-1773828000-1773835200@tuggeranong.lutheran.org.au
SUMMARY:Coffee and craft
DESCRIPTION:COME ALONG WITH YOUR CRAFT ITEMS YOU ARE WORKING ON – Knitting\, crocheting\, cross stitch\, painting\, etc. and relax with others. Even if you do not have a craft item you are welcome to come along and chat. Please contact the office for more details. Phone 02) 62925630 or email office@mygoodshepherd.org.au
URL:https://tuggeranong.lutheran.org.au/event/coffee-and-craft-5/2026-03-18/
LOCATION:Good Shepherd Worship Centre\, Cnr Hambidge Cres & Proctor St\, Chisholm\, NSW\, 2905\, Australia
CATEGORIES:Fellowship,Small Group
ATTACH;FMTTYPE=image/jpeg:https://tuggeranong.lutheran.org.au/wp-content/uploads/sites/128/2022/01/Craft-and-coffee-mornings-image.jpg
GEO:-35.4152899;149.1301963
X-APPLE-STRUCTURED-LOCATION;VALUE=URI;X-ADDRESS=Good Shepherd Worship Centre Cnr Hambidge Cres & Proctor St Chisholm NSW 2905 Australia;X-APPLE-RADIUS=500;X-TITLE=Cnr Hambidge Cres & Proctor St:geo:149.1301963,-35.4152899
END:VEVENT
BEGIN:VEVENT
DTSTART;TZID=Australia/Sydney:20260319T091500
DTEND;TZID=Australia/Sydney:20260319T110000
DTSTAMP:20260422T111139
CREATED:20241211T012425Z
LAST-MODIFIED:20251210T004821Z
UID:10040001-1773911700-1773918000@tuggeranong.lutheran.org.au
SUMMARY:Walk\, Talk\, Pray
DESCRIPTION:Come along to Walk\, Talk Pray and combine fresh air\, exercise and prayer – each Thursday\, meeting at 9.15 am at the Worship Centre. Stay on for coffee afterwards if you wish.
URL:https://tuggeranong.lutheran.org.au/event/walk-talk-pray/2026-03-19/
LOCATION:Good Shepherd Worship Centre\, Cnr Hambidge Cres & Proctor St\, Chisholm\, NSW\, 2905\, Australia
CATEGORIES:Fellowship
ATTACH;FMTTYPE=image/jpeg:https://tuggeranong.lutheran.org.au/wp-content/uploads/sites/128/2021/03/Walking-800.jpg
GEO:-35.4152899;149.1301963
X-APPLE-STRUCTURED-LOCATION;VALUE=URI;X-ADDRESS=Good Shepherd Worship Centre Cnr Hambidge Cres & Proctor St Chisholm NSW 2905 Australia;X-APPLE-RADIUS=500;X-TITLE=Cnr Hambidge Cres & Proctor St:geo:149.1301963,-35.4152899
END:VEVENT
BEGIN:VEVENT
DTSTART;TZID=Australia/Sydney:20260319T104500
DTEND;TZID=Australia/Sydney:20260319T111500
DTSTAMP:20260422T111139
CREATED:20241211T011647Z
LAST-MODIFIED:20251210T004853Z
UID:10006569-1773917100-1773918900@tuggeranong.lutheran.org.au
SUMMARY:Coffee and Chat
DESCRIPTION:Join us for a barista coffee and fellowship directly after the LDK worship service.
URL:https://tuggeranong.lutheran.org.au/event/coffee-and-chat-2/2026-03-19/
LOCATION:LDK Greenway Views\, 260 Soward Way\, Greenway\, Australian Capital Territory\, 2900\, Australia
CATEGORIES:Fellowship
ATTACH;FMTTYPE=image/jpeg:https://tuggeranong.lutheran.org.au/wp-content/uploads/sites/128/2022/02/coffee-and-chat.jpg
ORGANIZER;CN="Pastor Paul":MAILTO:pastor@mygoodshepherd.org.au
GEO:-35.4197317;149.0632525
X-APPLE-STRUCTURED-LOCATION;VALUE=URI;X-ADDRESS=LDK Greenway Views 260 Soward Way Greenway Australian Capital Territory 2900 Australia;X-APPLE-RADIUS=500;X-TITLE=260 Soward Way:geo:149.0632525,-35.4197317
END:VEVENT
BEGIN:VEVENT
DTSTART;TZID=Australia/Sydney:20260319T180000
DTEND;TZID=Australia/Sydney:20260319T193000
DTSTAMP:20260422T111139
CREATED:20240130T234845Z
LAST-MODIFIED:20260305T225935Z
UID:10015043-1773943200-1773948600@tuggeranong.lutheran.org.au
SUMMARY:Dinner Church
DESCRIPTION:Dinner Church will be a worship service that includes dinner and a focus on fellowship. All are invited to attend\, especially those who may be hesitant to attend a more formal service. Includes Holy Communion. Enquiries please email: zakaryhw@gmail.com
URL:https://tuggeranong.lutheran.org.au/event/dinner-church/2026-03-19/
LOCATION:Good Shepherd Worship Centre\, Cnr Hambidge Cres & Proctor St\, Chisholm\, NSW\, 2905\, Australia
CATEGORIES:Fellowship
ATTACH;FMTTYPE=image/png:https://tuggeranong.lutheran.org.au/wp-content/uploads/sites/128/2024/01/DinnerChurchFlyer_Ongoing.png
ORGANIZER;CN="Zak Huggett-Wright":MAILTO:zakaryhw@gmail.com
GEO:-35.4152899;149.1301963
X-APPLE-STRUCTURED-LOCATION;VALUE=URI;X-ADDRESS=Good Shepherd Worship Centre Cnr Hambidge Cres & Proctor St Chisholm NSW 2905 Australia;X-APPLE-RADIUS=500;X-TITLE=Cnr Hambidge Cres & Proctor St:geo:149.1301963,-35.4152899
END:VEVENT
BEGIN:VEVENT
DTSTART;TZID=Australia/Sydney:20260321T160000
DTEND;TZID=Australia/Sydney:20260321T190000
DTSTAMP:20260422T111139
CREATED:20260303T233627Z
LAST-MODIFIED:20260303T233627Z
UID:10041834-1774108800-1774119600@tuggeranong.lutheran.org.au
SUMMARY:Uno and Uno attack games afternoon
DESCRIPTION:Saturday 21 March 4pm – 6:30/7pm at Good Shepherd\nInvite your family and friends and come along for a free fun card event\nBYO Snacks and drinks\, no alcohol please\nPurchase now: Easter egg raffle tickets – prize drawn on the night. All proceeds go to the Good Shepherd Food Pantry.\nContact the office for more details
URL:https://tuggeranong.lutheran.org.au/event/uno-and-uno-attack-games-afternoon/
LOCATION:Good Shepherd Worship Centre\, Cnr Hambidge Cres & Proctor St\, Chisholm\, NSW\, 2905\, Australia
CATEGORIES:Fellowship
ATTACH;FMTTYPE=image/jpeg:https://tuggeranong.lutheran.org.au/wp-content/uploads/sites/128/2026/03/crop-uno.jpg
ORGANIZER;CN="Lyn McNeil":MAILTO:office@mygoodshepherd.org.au
GEO:-35.4152899;149.1301963
X-APPLE-STRUCTURED-LOCATION;VALUE=URI;X-ADDRESS=Good Shepherd Worship Centre Cnr Hambidge Cres & Proctor St Chisholm NSW 2905 Australia;X-APPLE-RADIUS=500;X-TITLE=Cnr Hambidge Cres & Proctor St:geo:149.1301963,-35.4152899
END:VEVENT
BEGIN:VEVENT
DTSTART;TZID=Australia/Sydney:20260326T091500
DTEND;TZID=Australia/Sydney:20260326T110000
DTSTAMP:20260422T111139
CREATED:20241211T012425Z
LAST-MODIFIED:20251210T004821Z
UID:10040002-1774516500-1774522800@tuggeranong.lutheran.org.au
SUMMARY:Walk\, Talk\, Pray
DESCRIPTION:Come along to Walk\, Talk Pray and combine fresh air\, exercise and prayer – each Thursday\, meeting at 9.15 am at the Worship Centre. Stay on for coffee afterwards if you wish.
URL:https://tuggeranong.lutheran.org.au/event/walk-talk-pray/2026-03-26/
LOCATION:Good Shepherd Worship Centre\, Cnr Hambidge Cres & Proctor St\, Chisholm\, NSW\, 2905\, Australia
CATEGORIES:Fellowship
ATTACH;FMTTYPE=image/jpeg:https://tuggeranong.lutheran.org.au/wp-content/uploads/sites/128/2021/03/Walking-800.jpg
GEO:-35.4152899;149.1301963
X-APPLE-STRUCTURED-LOCATION;VALUE=URI;X-ADDRESS=Good Shepherd Worship Centre Cnr Hambidge Cres & Proctor St Chisholm NSW 2905 Australia;X-APPLE-RADIUS=500;X-TITLE=Cnr Hambidge Cres & Proctor St:geo:149.1301963,-35.4152899
END:VEVENT
BEGIN:VEVENT
DTSTART;TZID=Australia/Sydney:20260326T104500
DTEND;TZID=Australia/Sydney:20260326T111500
DTSTAMP:20260422T111139
CREATED:20241211T011647Z
LAST-MODIFIED:20251210T004853Z
UID:10006570-1774521900-1774523700@tuggeranong.lutheran.org.au
SUMMARY:Coffee and Chat
DESCRIPTION:Join us for a barista coffee and fellowship directly after the LDK worship service.
URL:https://tuggeranong.lutheran.org.au/event/coffee-and-chat-2/2026-03-26/
LOCATION:LDK Greenway Views\, 260 Soward Way\, Greenway\, Australian Capital Territory\, 2900\, Australia
CATEGORIES:Fellowship
ATTACH;FMTTYPE=image/jpeg:https://tuggeranong.lutheran.org.au/wp-content/uploads/sites/128/2022/02/coffee-and-chat.jpg
ORGANIZER;CN="Pastor Paul":MAILTO:pastor@mygoodshepherd.org.au
GEO:-35.4197317;149.0632525
X-APPLE-STRUCTURED-LOCATION;VALUE=URI;X-ADDRESS=LDK Greenway Views 260 Soward Way Greenway Australian Capital Territory 2900 Australia;X-APPLE-RADIUS=500;X-TITLE=260 Soward Way:geo:149.0632525,-35.4197317
END:VEVENT
BEGIN:VEVENT
DTSTART;TZID=Australia/Sydney:20260326T180000
DTEND;TZID=Australia/Sydney:20260326T193000
DTSTAMP:20260422T111139
CREATED:20240130T234845Z
LAST-MODIFIED:20260305T225935Z
UID:10015044-1774548000-1774553400@tuggeranong.lutheran.org.au
SUMMARY:Dinner Church
DESCRIPTION:Dinner Church will be a worship service that includes dinner and a focus on fellowship. All are invited to attend\, especially those who may be hesitant to attend a more formal service. Includes Holy Communion. Enquiries please email: zakaryhw@gmail.com
URL:https://tuggeranong.lutheran.org.au/event/dinner-church/2026-03-26/
LOCATION:Good Shepherd Worship Centre\, Cnr Hambidge Cres & Proctor St\, Chisholm\, NSW\, 2905\, Australia
CATEGORIES:Fellowship
ATTACH;FMTTYPE=image/png:https://tuggeranong.lutheran.org.au/wp-content/uploads/sites/128/2024/01/DinnerChurchFlyer_Ongoing.png
ORGANIZER;CN="Zak Huggett-Wright":MAILTO:zakaryhw@gmail.com
GEO:-35.4152899;149.1301963
X-APPLE-STRUCTURED-LOCATION;VALUE=URI;X-ADDRESS=Good Shepherd Worship Centre Cnr Hambidge Cres & Proctor St Chisholm NSW 2905 Australia;X-APPLE-RADIUS=500;X-TITLE=Cnr Hambidge Cres & Proctor St:geo:149.1301963,-35.4152899
END:VEVENT
END:VCALENDAR