BEGIN:VCALENDAR
VERSION:2.0
PRODID:-//Tuggeranong Good Shepherd Congregation, ACT - ECPv6.8.1//NONSGML v1.0//EN
CALSCALE:GREGORIAN
METHOD:PUBLISH
X-ORIGINAL-URL:https://tuggeranong.lutheran.org.au
X-WR-CALDESC:Events for Tuggeranong Good Shepherd Congregation, ACT
REFRESH-INTERVAL;VALUE=DURATION:PT1H
X-Robots-Tag:noindex
X-PUBLISHED-TTL:PT1H
BEGIN:VTIMEZONE
TZID:Australia/Sydney
BEGIN:STANDARD
TZOFFSETFROM:+1100
TZOFFSETTO:+1000
TZNAME:AEST
DTSTART:20260404T160000
END:STANDARD
BEGIN:DAYLIGHT
TZOFFSETFROM:+1000
TZOFFSETTO:+1100
TZNAME:AEDT
DTSTART:20261003T160000
END:DAYLIGHT
END:VTIMEZONE
BEGIN:VEVENT
DTSTART;TZID=Australia/Sydney:20260204T100000
DTEND;TZID=Australia/Sydney:20260204T120000
DTSTAMP:20260422T055826
CREATED:20251205T013753Z
LAST-MODIFIED:20251205T013753Z
UID:10041551-1770199200-1770206400@tuggeranong.lutheran.org.au
SUMMARY:Coffee and craft
DESCRIPTION:COME ALONG WITH YOUR CRAFT ITEMS YOU ARE WORKING ON – Knitting\, crocheting\, cross stitch\, painting\, etc. and relax with others. Even if you do not have a craft item you are welcome to come along and chat. Please contact the office for more details. Phone 02) 62925630 or email office@mygoodshepherd.org.au
URL:https://tuggeranong.lutheran.org.au/event/coffee-and-craft-5/2026-02-04/
LOCATION:Good Shepherd Worship Centre\, Cnr Hambidge Cres & Proctor St\, Chisholm\, NSW\, 2905\, Australia
CATEGORIES:Fellowship,Small Group
ATTACH;FMTTYPE=image/jpeg:https://tuggeranong.lutheran.org.au/wp-content/uploads/sites/128/2022/01/Craft-and-coffee-mornings-image.jpg
GEO:-35.4152899;149.1301963
X-APPLE-STRUCTURED-LOCATION;VALUE=URI;X-ADDRESS=Good Shepherd Worship Centre Cnr Hambidge Cres & Proctor St Chisholm NSW 2905 Australia;X-APPLE-RADIUS=500;X-TITLE=Cnr Hambidge Cres & Proctor St:geo:149.1301963,-35.4152899
END:VEVENT
BEGIN:VEVENT
DTSTART;TZID=Australia/Sydney:20260205T091500
DTEND;TZID=Australia/Sydney:20260205T110000
DTSTAMP:20260422T055826
CREATED:20241211T012425Z
LAST-MODIFIED:20251210T004821Z
UID:10039995-1770282900-1770289200@tuggeranong.lutheran.org.au
SUMMARY:Walk\, Talk\, Pray
DESCRIPTION:Come along to Walk\, Talk Pray and combine fresh air\, exercise and prayer – each Thursday\, meeting at 9.15 am at the Worship Centre. Stay on for coffee afterwards if you wish.
URL:https://tuggeranong.lutheran.org.au/event/walk-talk-pray/2026-02-05/
LOCATION:Good Shepherd Worship Centre\, Cnr Hambidge Cres & Proctor St\, Chisholm\, NSW\, 2905\, Australia
CATEGORIES:Fellowship
ATTACH;FMTTYPE=image/jpeg:https://tuggeranong.lutheran.org.au/wp-content/uploads/sites/128/2021/03/Walking-800.jpg
GEO:-35.4152899;149.1301963
X-APPLE-STRUCTURED-LOCATION;VALUE=URI;X-ADDRESS=Good Shepherd Worship Centre Cnr Hambidge Cres & Proctor St Chisholm NSW 2905 Australia;X-APPLE-RADIUS=500;X-TITLE=Cnr Hambidge Cres & Proctor St:geo:149.1301963,-35.4152899
END:VEVENT
BEGIN:VEVENT
DTSTART;TZID=Australia/Sydney:20260205T104500
DTEND;TZID=Australia/Sydney:20260205T111500
DTSTAMP:20260422T055826
CREATED:20241211T011647Z
LAST-MODIFIED:20251210T004853Z
UID:10006563-1770288300-1770290100@tuggeranong.lutheran.org.au
SUMMARY:Coffee and Chat
DESCRIPTION:Join us for a barista coffee and fellowship directly after the LDK worship service.
URL:https://tuggeranong.lutheran.org.au/event/coffee-and-chat-2/2026-02-05/
LOCATION:LDK Greenway Views\, 260 Soward Way\, Greenway\, Australian Capital Territory\, 2900\, Australia
CATEGORIES:Fellowship
ATTACH;FMTTYPE=image/jpeg:https://tuggeranong.lutheran.org.au/wp-content/uploads/sites/128/2022/02/coffee-and-chat.jpg
ORGANIZER;CN="Pastor Paul":MAILTO:pastor@mygoodshepherd.org.au
GEO:-35.4197317;149.0632525
X-APPLE-STRUCTURED-LOCATION;VALUE=URI;X-ADDRESS=LDK Greenway Views 260 Soward Way Greenway Australian Capital Territory 2900 Australia;X-APPLE-RADIUS=500;X-TITLE=260 Soward Way:geo:149.0632525,-35.4197317
END:VEVENT
BEGIN:VEVENT
DTSTART;TZID=Australia/Sydney:20260205T180000
DTEND;TZID=Australia/Sydney:20260205T193000
DTSTAMP:20260422T055826
CREATED:20240130T234845Z
LAST-MODIFIED:20260305T225935Z
UID:10015037-1770314400-1770319800@tuggeranong.lutheran.org.au
SUMMARY:Dinner Church
DESCRIPTION:Dinner Church will be a worship service that includes dinner and a focus on fellowship. All are invited to attend\, especially those who may be hesitant to attend a more formal service. Includes Holy Communion. Enquiries please email: zakaryhw@gmail.com
URL:https://tuggeranong.lutheran.org.au/event/dinner-church/2026-02-05/
LOCATION:Good Shepherd Worship Centre\, Cnr Hambidge Cres & Proctor St\, Chisholm\, NSW\, 2905\, Australia
CATEGORIES:Fellowship
ATTACH;FMTTYPE=image/png:https://tuggeranong.lutheran.org.au/wp-content/uploads/sites/128/2024/01/DinnerChurchFlyer_Ongoing.png
ORGANIZER;CN="Zak Huggett-Wright":MAILTO:zakaryhw@gmail.com
GEO:-35.4152899;149.1301963
X-APPLE-STRUCTURED-LOCATION;VALUE=URI;X-ADDRESS=Good Shepherd Worship Centre Cnr Hambidge Cres & Proctor St Chisholm NSW 2905 Australia;X-APPLE-RADIUS=500;X-TITLE=Cnr Hambidge Cres & Proctor St:geo:149.1301963,-35.4152899
END:VEVENT
BEGIN:VEVENT
DTSTART;TZID=Australia/Sydney:20260207T140000
DTEND;TZID=Australia/Sydney:20260207T160000
DTSTAMP:20260422T055826
CREATED:20251126T010730Z
LAST-MODIFIED:20251210T005304Z
UID:10041469-1770472800-1770480000@tuggeranong.lutheran.org.au
SUMMARY:Ladies Connect
DESCRIPTION:A welcoming group of women meet at Ladies Connect on the first Saturday of each month at 2pm for fellowship\, varied activities\, a devotion and afternoon tea. The group usually meets at the worship centre although the venue is confirmed by email a week prior. Please let the office know if you would like more information. Email: office@mygoodshepherd.org.au
URL:https://tuggeranong.lutheran.org.au/event/ladies-connect-2/2026-02-07/
LOCATION:Good Shepherd Worship Centre\, Cnr Hambidge Cres & Proctor St\, Chisholm\, NSW\, 2905\, Australia
CATEGORIES:Fellowship,Mission/Outreach/Charity,Small Group,Women
ATTACH;FMTTYPE=image/jpeg:https://tuggeranong.lutheran.org.au/wp-content/uploads/sites/128/2025/07/Ladies-Connect-website.jpg
ORGANIZER;CN="Janelle Spann":MAILTO:office@mygoodshepherd.org.au
GEO:-35.4152899;149.1301963
X-APPLE-STRUCTURED-LOCATION;VALUE=URI;X-ADDRESS=Good Shepherd Worship Centre Cnr Hambidge Cres & Proctor St Chisholm NSW 2905 Australia;X-APPLE-RADIUS=500;X-TITLE=Cnr Hambidge Cres & Proctor St:geo:149.1301963,-35.4152899
END:VEVENT
BEGIN:VEVENT
DTSTART;TZID=Australia/Sydney:20260212T091500
DTEND;TZID=Australia/Sydney:20260212T110000
DTSTAMP:20260422T055826
CREATED:20241211T012425Z
LAST-MODIFIED:20251210T004821Z
UID:10039996-1770887700-1770894000@tuggeranong.lutheran.org.au
SUMMARY:Walk\, Talk\, Pray
DESCRIPTION:Come along to Walk\, Talk Pray and combine fresh air\, exercise and prayer – each Thursday\, meeting at 9.15 am at the Worship Centre. Stay on for coffee afterwards if you wish.
URL:https://tuggeranong.lutheran.org.au/event/walk-talk-pray/2026-02-12/
LOCATION:Good Shepherd Worship Centre\, Cnr Hambidge Cres & Proctor St\, Chisholm\, NSW\, 2905\, Australia
CATEGORIES:Fellowship
ATTACH;FMTTYPE=image/jpeg:https://tuggeranong.lutheran.org.au/wp-content/uploads/sites/128/2021/03/Walking-800.jpg
GEO:-35.4152899;149.1301963
X-APPLE-STRUCTURED-LOCATION;VALUE=URI;X-ADDRESS=Good Shepherd Worship Centre Cnr Hambidge Cres & Proctor St Chisholm NSW 2905 Australia;X-APPLE-RADIUS=500;X-TITLE=Cnr Hambidge Cres & Proctor St:geo:149.1301963,-35.4152899
END:VEVENT
BEGIN:VEVENT
DTSTART;TZID=Australia/Sydney:20260212T104500
DTEND;TZID=Australia/Sydney:20260212T111500
DTSTAMP:20260422T055826
CREATED:20241211T011647Z
LAST-MODIFIED:20251210T004853Z
UID:10006564-1770893100-1770894900@tuggeranong.lutheran.org.au
SUMMARY:Coffee and Chat
DESCRIPTION:Join us for a barista coffee and fellowship directly after the LDK worship service.
URL:https://tuggeranong.lutheran.org.au/event/coffee-and-chat-2/2026-02-12/
LOCATION:LDK Greenway Views\, 260 Soward Way\, Greenway\, Australian Capital Territory\, 2900\, Australia
CATEGORIES:Fellowship
ATTACH;FMTTYPE=image/jpeg:https://tuggeranong.lutheran.org.au/wp-content/uploads/sites/128/2022/02/coffee-and-chat.jpg
ORGANIZER;CN="Pastor Paul":MAILTO:pastor@mygoodshepherd.org.au
GEO:-35.4197317;149.0632525
X-APPLE-STRUCTURED-LOCATION;VALUE=URI;X-ADDRESS=LDK Greenway Views 260 Soward Way Greenway Australian Capital Territory 2900 Australia;X-APPLE-RADIUS=500;X-TITLE=260 Soward Way:geo:149.0632525,-35.4197317
END:VEVENT
BEGIN:VEVENT
DTSTART;TZID=Australia/Sydney:20260212T180000
DTEND;TZID=Australia/Sydney:20260212T193000
DTSTAMP:20260422T055826
CREATED:20240130T234845Z
LAST-MODIFIED:20260305T225935Z
UID:10015038-1770919200-1770924600@tuggeranong.lutheran.org.au
SUMMARY:Dinner Church
DESCRIPTION:Dinner Church will be a worship service that includes dinner and a focus on fellowship. All are invited to attend\, especially those who may be hesitant to attend a more formal service. Includes Holy Communion. Enquiries please email: zakaryhw@gmail.com
URL:https://tuggeranong.lutheran.org.au/event/dinner-church/2026-02-12/
LOCATION:Good Shepherd Worship Centre\, Cnr Hambidge Cres & Proctor St\, Chisholm\, NSW\, 2905\, Australia
CATEGORIES:Fellowship
ATTACH;FMTTYPE=image/png:https://tuggeranong.lutheran.org.au/wp-content/uploads/sites/128/2024/01/DinnerChurchFlyer_Ongoing.png
ORGANIZER;CN="Zak Huggett-Wright":MAILTO:zakaryhw@gmail.com
GEO:-35.4152899;149.1301963
X-APPLE-STRUCTURED-LOCATION;VALUE=URI;X-ADDRESS=Good Shepherd Worship Centre Cnr Hambidge Cres & Proctor St Chisholm NSW 2905 Australia;X-APPLE-RADIUS=500;X-TITLE=Cnr Hambidge Cres & Proctor St:geo:149.1301963,-35.4152899
END:VEVENT
BEGIN:VEVENT
DTSTART;TZID=Australia/Sydney:20260215T150000
DTEND;TZID=Australia/Sydney:20260215T163000
DTSTAMP:20260422T055826
CREATED:20241108T021746Z
LAST-MODIFIED:20251126T010902Z
UID:10039783-1771167600-1771173000@tuggeranong.lutheran.org.au
SUMMARY:Discussion group with Jim at LDK Greenway Views
DESCRIPTION:A small\, friendly group of residents and friends of LDK Greenway Views meet with Jim Hurt from Good Shepherd for discussion. Conversation starters are from bible centred books. Held on the third Sunday of every month in the chapel at LDK Greenway Views unless otherwise advertised.
URL:https://tuggeranong.lutheran.org.au/event/discussion-group-with-jim-at-ldk-greenway-veiws-2/2026-02-15/
LOCATION:LDK Greenway Views\, 260 Soward Way\, Greenway\, Australian Capital Territory\, 2900\, Australia
CATEGORIES:Bible Study,Fellowship,Small Group
ATTACH;FMTTYPE=image/jpeg:https://tuggeranong.lutheran.org.au/wp-content/uploads/sites/128/2020/09/Greenway-Views-1.jpg
GEO:-35.4197317;149.0632525
X-APPLE-STRUCTURED-LOCATION;VALUE=URI;X-ADDRESS=LDK Greenway Views 260 Soward Way Greenway Australian Capital Territory 2900 Australia;X-APPLE-RADIUS=500;X-TITLE=260 Soward Way:geo:149.0632525,-35.4197317
END:VEVENT
BEGIN:VEVENT
DTSTART;TZID=Australia/Sydney:20260218T100000
DTEND;TZID=Australia/Sydney:20260218T120000
DTSTAMP:20260422T055826
CREATED:20251205T013753Z
LAST-MODIFIED:20251205T013753Z
UID:10041552-1771408800-1771416000@tuggeranong.lutheran.org.au
SUMMARY:Coffee and craft
DESCRIPTION:COME ALONG WITH YOUR CRAFT ITEMS YOU ARE WORKING ON – Knitting\, crocheting\, cross stitch\, painting\, etc. and relax with others. Even if you do not have a craft item you are welcome to come along and chat. Please contact the office for more details. Phone 02) 62925630 or email office@mygoodshepherd.org.au
URL:https://tuggeranong.lutheran.org.au/event/coffee-and-craft-5/2026-02-18/
LOCATION:Good Shepherd Worship Centre\, Cnr Hambidge Cres & Proctor St\, Chisholm\, NSW\, 2905\, Australia
CATEGORIES:Fellowship,Small Group
ATTACH;FMTTYPE=image/jpeg:https://tuggeranong.lutheran.org.au/wp-content/uploads/sites/128/2022/01/Craft-and-coffee-mornings-image.jpg
GEO:-35.4152899;149.1301963
X-APPLE-STRUCTURED-LOCATION;VALUE=URI;X-ADDRESS=Good Shepherd Worship Centre Cnr Hambidge Cres & Proctor St Chisholm NSW 2905 Australia;X-APPLE-RADIUS=500;X-TITLE=Cnr Hambidge Cres & Proctor St:geo:149.1301963,-35.4152899
END:VEVENT
BEGIN:VEVENT
DTSTART;TZID=Australia/Sydney:20260219T091500
DTEND;TZID=Australia/Sydney:20260219T110000
DTSTAMP:20260422T055826
CREATED:20241211T012425Z
LAST-MODIFIED:20251210T004821Z
UID:10039997-1771492500-1771498800@tuggeranong.lutheran.org.au
SUMMARY:Walk\, Talk\, Pray
DESCRIPTION:Come along to Walk\, Talk Pray and combine fresh air\, exercise and prayer – each Thursday\, meeting at 9.15 am at the Worship Centre. Stay on for coffee afterwards if you wish.
URL:https://tuggeranong.lutheran.org.au/event/walk-talk-pray/2026-02-19/
LOCATION:Good Shepherd Worship Centre\, Cnr Hambidge Cres & Proctor St\, Chisholm\, NSW\, 2905\, Australia
CATEGORIES:Fellowship
ATTACH;FMTTYPE=image/jpeg:https://tuggeranong.lutheran.org.au/wp-content/uploads/sites/128/2021/03/Walking-800.jpg
GEO:-35.4152899;149.1301963
X-APPLE-STRUCTURED-LOCATION;VALUE=URI;X-ADDRESS=Good Shepherd Worship Centre Cnr Hambidge Cres & Proctor St Chisholm NSW 2905 Australia;X-APPLE-RADIUS=500;X-TITLE=Cnr Hambidge Cres & Proctor St:geo:149.1301963,-35.4152899
END:VEVENT
BEGIN:VEVENT
DTSTART;TZID=Australia/Sydney:20260219T104500
DTEND;TZID=Australia/Sydney:20260219T111500
DTSTAMP:20260422T055826
CREATED:20241211T011647Z
LAST-MODIFIED:20251210T004853Z
UID:10006565-1771497900-1771499700@tuggeranong.lutheran.org.au
SUMMARY:Coffee and Chat
DESCRIPTION:Join us for a barista coffee and fellowship directly after the LDK worship service.
URL:https://tuggeranong.lutheran.org.au/event/coffee-and-chat-2/2026-02-19/
LOCATION:LDK Greenway Views\, 260 Soward Way\, Greenway\, Australian Capital Territory\, 2900\, Australia
CATEGORIES:Fellowship
ATTACH;FMTTYPE=image/jpeg:https://tuggeranong.lutheran.org.au/wp-content/uploads/sites/128/2022/02/coffee-and-chat.jpg
ORGANIZER;CN="Pastor Paul":MAILTO:pastor@mygoodshepherd.org.au
GEO:-35.4197317;149.0632525
X-APPLE-STRUCTURED-LOCATION;VALUE=URI;X-ADDRESS=LDK Greenway Views 260 Soward Way Greenway Australian Capital Territory 2900 Australia;X-APPLE-RADIUS=500;X-TITLE=260 Soward Way:geo:149.0632525,-35.4197317
END:VEVENT
BEGIN:VEVENT
DTSTART;TZID=Australia/Sydney:20260219T180000
DTEND;TZID=Australia/Sydney:20260219T193000
DTSTAMP:20260422T055826
CREATED:20240130T234845Z
LAST-MODIFIED:20260305T225935Z
UID:10015039-1771524000-1771529400@tuggeranong.lutheran.org.au
SUMMARY:Dinner Church
DESCRIPTION:Dinner Church will be a worship service that includes dinner and a focus on fellowship. All are invited to attend\, especially those who may be hesitant to attend a more formal service. Includes Holy Communion. Enquiries please email: zakaryhw@gmail.com
URL:https://tuggeranong.lutheran.org.au/event/dinner-church/2026-02-19/
LOCATION:Good Shepherd Worship Centre\, Cnr Hambidge Cres & Proctor St\, Chisholm\, NSW\, 2905\, Australia
CATEGORIES:Fellowship
ATTACH;FMTTYPE=image/png:https://tuggeranong.lutheran.org.au/wp-content/uploads/sites/128/2024/01/DinnerChurchFlyer_Ongoing.png
ORGANIZER;CN="Zak Huggett-Wright":MAILTO:zakaryhw@gmail.com
GEO:-35.4152899;149.1301963
X-APPLE-STRUCTURED-LOCATION;VALUE=URI;X-ADDRESS=Good Shepherd Worship Centre Cnr Hambidge Cres & Proctor St Chisholm NSW 2905 Australia;X-APPLE-RADIUS=500;X-TITLE=Cnr Hambidge Cres & Proctor St:geo:149.1301963,-35.4152899
END:VEVENT
BEGIN:VEVENT
DTSTART;TZID=Australia/Sydney:20260226T091500
DTEND;TZID=Australia/Sydney:20260226T110000
DTSTAMP:20260422T055826
CREATED:20241211T012425Z
LAST-MODIFIED:20251210T004821Z
UID:10039998-1772097300-1772103600@tuggeranong.lutheran.org.au
SUMMARY:Walk\, Talk\, Pray
DESCRIPTION:Come along to Walk\, Talk Pray and combine fresh air\, exercise and prayer – each Thursday\, meeting at 9.15 am at the Worship Centre. Stay on for coffee afterwards if you wish.
URL:https://tuggeranong.lutheran.org.au/event/walk-talk-pray/2026-02-26/
LOCATION:Good Shepherd Worship Centre\, Cnr Hambidge Cres & Proctor St\, Chisholm\, NSW\, 2905\, Australia
CATEGORIES:Fellowship
ATTACH;FMTTYPE=image/jpeg:https://tuggeranong.lutheran.org.au/wp-content/uploads/sites/128/2021/03/Walking-800.jpg
GEO:-35.4152899;149.1301963
X-APPLE-STRUCTURED-LOCATION;VALUE=URI;X-ADDRESS=Good Shepherd Worship Centre Cnr Hambidge Cres & Proctor St Chisholm NSW 2905 Australia;X-APPLE-RADIUS=500;X-TITLE=Cnr Hambidge Cres & Proctor St:geo:149.1301963,-35.4152899
END:VEVENT
BEGIN:VEVENT
DTSTART;TZID=Australia/Sydney:20260226T104500
DTEND;TZID=Australia/Sydney:20260226T111500
DTSTAMP:20260422T055826
CREATED:20241211T011647Z
LAST-MODIFIED:20251210T004853Z
UID:10006566-1772102700-1772104500@tuggeranong.lutheran.org.au
SUMMARY:Coffee and Chat
DESCRIPTION:Join us for a barista coffee and fellowship directly after the LDK worship service.
URL:https://tuggeranong.lutheran.org.au/event/coffee-and-chat-2/2026-02-26/
LOCATION:LDK Greenway Views\, 260 Soward Way\, Greenway\, Australian Capital Territory\, 2900\, Australia
CATEGORIES:Fellowship
ATTACH;FMTTYPE=image/jpeg:https://tuggeranong.lutheran.org.au/wp-content/uploads/sites/128/2022/02/coffee-and-chat.jpg
ORGANIZER;CN="Pastor Paul":MAILTO:pastor@mygoodshepherd.org.au
GEO:-35.4197317;149.0632525
X-APPLE-STRUCTURED-LOCATION;VALUE=URI;X-ADDRESS=LDK Greenway Views 260 Soward Way Greenway Australian Capital Territory 2900 Australia;X-APPLE-RADIUS=500;X-TITLE=260 Soward Way:geo:149.0632525,-35.4197317
END:VEVENT
BEGIN:VEVENT
DTSTART;TZID=Australia/Sydney:20260226T180000
DTEND;TZID=Australia/Sydney:20260226T193000
DTSTAMP:20260422T055826
CREATED:20240130T234845Z
LAST-MODIFIED:20260305T225935Z
UID:10015040-1772128800-1772134200@tuggeranong.lutheran.org.au
SUMMARY:Dinner Church
DESCRIPTION:Dinner Church will be a worship service that includes dinner and a focus on fellowship. All are invited to attend\, especially those who may be hesitant to attend a more formal service. Includes Holy Communion. Enquiries please email: zakaryhw@gmail.com
URL:https://tuggeranong.lutheran.org.au/event/dinner-church/2026-02-26/
LOCATION:Good Shepherd Worship Centre\, Cnr Hambidge Cres & Proctor St\, Chisholm\, NSW\, 2905\, Australia
CATEGORIES:Fellowship
ATTACH;FMTTYPE=image/png:https://tuggeranong.lutheran.org.au/wp-content/uploads/sites/128/2024/01/DinnerChurchFlyer_Ongoing.png
ORGANIZER;CN="Zak Huggett-Wright":MAILTO:zakaryhw@gmail.com
GEO:-35.4152899;149.1301963
X-APPLE-STRUCTURED-LOCATION;VALUE=URI;X-ADDRESS=Good Shepherd Worship Centre Cnr Hambidge Cres & Proctor St Chisholm NSW 2905 Australia;X-APPLE-RADIUS=500;X-TITLE=Cnr Hambidge Cres & Proctor St:geo:149.1301963,-35.4152899
END:VEVENT
END:VCALENDAR