BEGIN:VCALENDAR
VERSION:2.0
PRODID:-//Tuggeranong Good Shepherd Congregation, ACT - ECPv6.8.1//NONSGML v1.0//EN
CALSCALE:GREGORIAN
METHOD:PUBLISH
X-ORIGINAL-URL:https://tuggeranong.lutheran.org.au
X-WR-CALDESC:Events for Tuggeranong Good Shepherd Congregation, ACT
REFRESH-INTERVAL;VALUE=DURATION:PT1H
X-Robots-Tag:noindex
X-PUBLISHED-TTL:PT1H
BEGIN:VTIMEZONE
TZID:Australia/Sydney
BEGIN:STANDARD
TZOFFSETFROM:+1100
TZOFFSETTO:+1000
TZNAME:AEST
DTSTART:20250405T160000
END:STANDARD
BEGIN:DAYLIGHT
TZOFFSETFROM:+1000
TZOFFSETTO:+1100
TZNAME:AEDT
DTSTART:20251004T160000
END:DAYLIGHT
END:VTIMEZONE
BEGIN:VEVENT
DTSTART;TZID=Australia/Sydney:20251204T091500
DTEND;TZID=Australia/Sydney:20251204T110000
DTSTAMP:20260422T085610
CREATED:20241211T012425Z
LAST-MODIFIED:20251210T004821Z
UID:10039986-1764839700-1764846000@tuggeranong.lutheran.org.au
SUMMARY:Walk\, Talk\, Pray
DESCRIPTION:Come along to Walk\, Talk Pray and combine fresh air\, exercise and prayer – each Thursday\, meeting at 9.15 am at the Worship Centre. Stay on for coffee afterwards if you wish.
URL:https://tuggeranong.lutheran.org.au/event/walk-talk-pray/2025-12-04/
LOCATION:Good Shepherd Worship Centre\, Cnr Hambidge Cres & Proctor St\, Chisholm\, NSW\, 2905\, Australia
CATEGORIES:Fellowship
ATTACH;FMTTYPE=image/jpeg:https://tuggeranong.lutheran.org.au/wp-content/uploads/sites/128/2021/03/Walking-800.jpg
GEO:-35.4152899;149.1301963
X-APPLE-STRUCTURED-LOCATION;VALUE=URI;X-ADDRESS=Good Shepherd Worship Centre Cnr Hambidge Cres & Proctor St Chisholm NSW 2905 Australia;X-APPLE-RADIUS=500;X-TITLE=Cnr Hambidge Cres & Proctor St:geo:149.1301963,-35.4152899
END:VEVENT
BEGIN:VEVENT
DTSTART;TZID=Australia/Sydney:20251204T104500
DTEND;TZID=Australia/Sydney:20251204T111500
DTSTAMP:20260422T085610
CREATED:20241211T011647Z
LAST-MODIFIED:20251210T004853Z
UID:10006554-1764845100-1764846900@tuggeranong.lutheran.org.au
SUMMARY:Coffee and Chat
DESCRIPTION:Join us for a barista coffee and fellowship directly after the LDK worship service.
URL:https://tuggeranong.lutheran.org.au/event/coffee-and-chat-2/2025-12-04/
LOCATION:LDK Greenway Views\, 260 Soward Way\, Greenway\, Australian Capital Territory\, 2900\, Australia
CATEGORIES:Fellowship
ATTACH;FMTTYPE=image/jpeg:https://tuggeranong.lutheran.org.au/wp-content/uploads/sites/128/2022/02/coffee-and-chat.jpg
ORGANIZER;CN="Pastor Paul":MAILTO:pastor@mygoodshepherd.org.au
GEO:-35.4197317;149.0632525
X-APPLE-STRUCTURED-LOCATION;VALUE=URI;X-ADDRESS=LDK Greenway Views 260 Soward Way Greenway Australian Capital Territory 2900 Australia;X-APPLE-RADIUS=500;X-TITLE=260 Soward Way:geo:149.0632525,-35.4197317
END:VEVENT
BEGIN:VEVENT
DTSTART;TZID=Australia/Sydney:20251204T180000
DTEND;TZID=Australia/Sydney:20251204T193000
DTSTAMP:20260422T085610
CREATED:20240130T234845Z
LAST-MODIFIED:20260305T225935Z
UID:10015028-1764871200-1764876600@tuggeranong.lutheran.org.au
SUMMARY:Dinner Church
DESCRIPTION:Dinner Church will be a worship service that includes dinner and a focus on fellowship. All are invited to attend\, especially those who may be hesitant to attend a more formal service. Includes Holy Communion. Enquiries please email: zakaryhw@gmail.com
URL:https://tuggeranong.lutheran.org.au/event/dinner-church/2025-12-04/
LOCATION:Good Shepherd Worship Centre\, Cnr Hambidge Cres & Proctor St\, Chisholm\, NSW\, 2905\, Australia
CATEGORIES:Fellowship
ATTACH;FMTTYPE=image/png:https://tuggeranong.lutheran.org.au/wp-content/uploads/sites/128/2024/01/DinnerChurchFlyer_Ongoing.png
ORGANIZER;CN="Zak Huggett-Wright":MAILTO:zakaryhw@gmail.com
GEO:-35.4152899;149.1301963
X-APPLE-STRUCTURED-LOCATION;VALUE=URI;X-ADDRESS=Good Shepherd Worship Centre Cnr Hambidge Cres & Proctor St Chisholm NSW 2905 Australia;X-APPLE-RADIUS=500;X-TITLE=Cnr Hambidge Cres & Proctor St:geo:149.1301963,-35.4152899
END:VEVENT
BEGIN:VEVENT
DTSTART;TZID=Australia/Sydney:20251210T100000
DTEND;TZID=Australia/Sydney:20251210T120000
DTSTAMP:20260422T085610
CREATED:20241211T014028Z
LAST-MODIFIED:20250326T003231Z
UID:10040255-1765360800-1765368000@tuggeranong.lutheran.org.au
SUMMARY:Coffee and craft
DESCRIPTION:COME ALONG WITH YOUR CRAFT ITEMS YOU ARE WORKING ON – Knitting\, crocheting\, cross stitch\, painting\, etc. and relax with others. Even if you do not have a craft item you are welcome to come along and chat. Please contact the office for more details. Phone 02) 62925630 or email office@mygoodshepherd.org.au
URL:https://tuggeranong.lutheran.org.au/event/coffee-and-craft-4/2025-12-10/
LOCATION:Good Shepherd Worship Centre\, Cnr Hambidge Cres & Proctor St\, Chisholm\, NSW\, 2905\, Australia
CATEGORIES:Fellowship,Small Group
ATTACH;FMTTYPE=image/jpeg:https://tuggeranong.lutheran.org.au/wp-content/uploads/sites/128/2022/01/Craft-and-coffee-mornings-image.jpg
GEO:-35.4152899;149.1301963
X-APPLE-STRUCTURED-LOCATION;VALUE=URI;X-ADDRESS=Good Shepherd Worship Centre Cnr Hambidge Cres & Proctor St Chisholm NSW 2905 Australia;X-APPLE-RADIUS=500;X-TITLE=Cnr Hambidge Cres & Proctor St:geo:149.1301963,-35.4152899
END:VEVENT
BEGIN:VEVENT
DTSTART;TZID=Australia/Sydney:20251211T091500
DTEND;TZID=Australia/Sydney:20251211T110000
DTSTAMP:20260422T085610
CREATED:20241211T012425Z
LAST-MODIFIED:20251210T004821Z
UID:10039987-1765444500-1765450800@tuggeranong.lutheran.org.au
SUMMARY:Walk\, Talk\, Pray
DESCRIPTION:Come along to Walk\, Talk Pray and combine fresh air\, exercise and prayer – each Thursday\, meeting at 9.15 am at the Worship Centre. Stay on for coffee afterwards if you wish.
URL:https://tuggeranong.lutheran.org.au/event/walk-talk-pray/2025-12-11/
LOCATION:Good Shepherd Worship Centre\, Cnr Hambidge Cres & Proctor St\, Chisholm\, NSW\, 2905\, Australia
CATEGORIES:Fellowship
ATTACH;FMTTYPE=image/jpeg:https://tuggeranong.lutheran.org.au/wp-content/uploads/sites/128/2021/03/Walking-800.jpg
GEO:-35.4152899;149.1301963
X-APPLE-STRUCTURED-LOCATION;VALUE=URI;X-ADDRESS=Good Shepherd Worship Centre Cnr Hambidge Cres & Proctor St Chisholm NSW 2905 Australia;X-APPLE-RADIUS=500;X-TITLE=Cnr Hambidge Cres & Proctor St:geo:149.1301963,-35.4152899
END:VEVENT
BEGIN:VEVENT
DTSTART;TZID=Australia/Sydney:20251211T104500
DTEND;TZID=Australia/Sydney:20251211T111500
DTSTAMP:20260422T085610
CREATED:20241211T011647Z
LAST-MODIFIED:20251210T004853Z
UID:10006555-1765449900-1765451700@tuggeranong.lutheran.org.au
SUMMARY:Coffee and Chat
DESCRIPTION:Join us for a barista coffee and fellowship directly after the LDK worship service.
URL:https://tuggeranong.lutheran.org.au/event/coffee-and-chat-2/2025-12-11/
LOCATION:LDK Greenway Views\, 260 Soward Way\, Greenway\, Australian Capital Territory\, 2900\, Australia
CATEGORIES:Fellowship
ATTACH;FMTTYPE=image/jpeg:https://tuggeranong.lutheran.org.au/wp-content/uploads/sites/128/2022/02/coffee-and-chat.jpg
ORGANIZER;CN="Pastor Paul":MAILTO:pastor@mygoodshepherd.org.au
GEO:-35.4197317;149.0632525
X-APPLE-STRUCTURED-LOCATION;VALUE=URI;X-ADDRESS=LDK Greenway Views 260 Soward Way Greenway Australian Capital Territory 2900 Australia;X-APPLE-RADIUS=500;X-TITLE=260 Soward Way:geo:149.0632525,-35.4197317
END:VEVENT
BEGIN:VEVENT
DTSTART;TZID=Australia/Sydney:20251211T180000
DTEND;TZID=Australia/Sydney:20251211T193000
DTSTAMP:20260422T085610
CREATED:20240130T234845Z
LAST-MODIFIED:20260305T225935Z
UID:10015029-1765476000-1765481400@tuggeranong.lutheran.org.au
SUMMARY:Dinner Church
DESCRIPTION:Dinner Church will be a worship service that includes dinner and a focus on fellowship. All are invited to attend\, especially those who may be hesitant to attend a more formal service. Includes Holy Communion. Enquiries please email: zakaryhw@gmail.com
URL:https://tuggeranong.lutheran.org.au/event/dinner-church/2025-12-11/
LOCATION:Good Shepherd Worship Centre\, Cnr Hambidge Cres & Proctor St\, Chisholm\, NSW\, 2905\, Australia
CATEGORIES:Fellowship
ATTACH;FMTTYPE=image/png:https://tuggeranong.lutheran.org.au/wp-content/uploads/sites/128/2024/01/DinnerChurchFlyer_Ongoing.png
ORGANIZER;CN="Zak Huggett-Wright":MAILTO:zakaryhw@gmail.com
GEO:-35.4152899;149.1301963
X-APPLE-STRUCTURED-LOCATION;VALUE=URI;X-ADDRESS=Good Shepherd Worship Centre Cnr Hambidge Cres & Proctor St Chisholm NSW 2905 Australia;X-APPLE-RADIUS=500;X-TITLE=Cnr Hambidge Cres & Proctor St:geo:149.1301963,-35.4152899
END:VEVENT
BEGIN:VEVENT
DTSTART;TZID=Australia/Sydney:20251218T091500
DTEND;TZID=Australia/Sydney:20251218T110000
DTSTAMP:20260422T085610
CREATED:20241211T012425Z
LAST-MODIFIED:20251210T004821Z
UID:10039988-1766049300-1766055600@tuggeranong.lutheran.org.au
SUMMARY:Walk\, Talk\, Pray
DESCRIPTION:Come along to Walk\, Talk Pray and combine fresh air\, exercise and prayer – each Thursday\, meeting at 9.15 am at the Worship Centre. Stay on for coffee afterwards if you wish.
URL:https://tuggeranong.lutheran.org.au/event/walk-talk-pray/2025-12-18/
LOCATION:Good Shepherd Worship Centre\, Cnr Hambidge Cres & Proctor St\, Chisholm\, NSW\, 2905\, Australia
CATEGORIES:Fellowship
ATTACH;FMTTYPE=image/jpeg:https://tuggeranong.lutheran.org.au/wp-content/uploads/sites/128/2021/03/Walking-800.jpg
GEO:-35.4152899;149.1301963
X-APPLE-STRUCTURED-LOCATION;VALUE=URI;X-ADDRESS=Good Shepherd Worship Centre Cnr Hambidge Cres & Proctor St Chisholm NSW 2905 Australia;X-APPLE-RADIUS=500;X-TITLE=Cnr Hambidge Cres & Proctor St:geo:149.1301963,-35.4152899
END:VEVENT
BEGIN:VEVENT
DTSTART;TZID=Australia/Sydney:20251218T104500
DTEND;TZID=Australia/Sydney:20251218T111500
DTSTAMP:20260422T085610
CREATED:20241211T011647Z
LAST-MODIFIED:20251210T004853Z
UID:10006556-1766054700-1766056500@tuggeranong.lutheran.org.au
SUMMARY:Coffee and Chat
DESCRIPTION:Join us for a barista coffee and fellowship directly after the LDK worship service.
URL:https://tuggeranong.lutheran.org.au/event/coffee-and-chat-2/2025-12-18/
LOCATION:LDK Greenway Views\, 260 Soward Way\, Greenway\, Australian Capital Territory\, 2900\, Australia
CATEGORIES:Fellowship
ATTACH;FMTTYPE=image/jpeg:https://tuggeranong.lutheran.org.au/wp-content/uploads/sites/128/2022/02/coffee-and-chat.jpg
ORGANIZER;CN="Pastor Paul":MAILTO:pastor@mygoodshepherd.org.au
GEO:-35.4197317;149.0632525
X-APPLE-STRUCTURED-LOCATION;VALUE=URI;X-ADDRESS=LDK Greenway Views 260 Soward Way Greenway Australian Capital Territory 2900 Australia;X-APPLE-RADIUS=500;X-TITLE=260 Soward Way:geo:149.0632525,-35.4197317
END:VEVENT
BEGIN:VEVENT
DTSTART;TZID=Australia/Sydney:20251218T180000
DTEND;TZID=Australia/Sydney:20251218T193000
DTSTAMP:20260422T085610
CREATED:20240130T234845Z
LAST-MODIFIED:20260305T225935Z
UID:10015030-1766080800-1766086200@tuggeranong.lutheran.org.au
SUMMARY:Dinner Church
DESCRIPTION:Dinner Church will be a worship service that includes dinner and a focus on fellowship. All are invited to attend\, especially those who may be hesitant to attend a more formal service. Includes Holy Communion. Enquiries please email: zakaryhw@gmail.com
URL:https://tuggeranong.lutheran.org.au/event/dinner-church/2025-12-18/
LOCATION:Good Shepherd Worship Centre\, Cnr Hambidge Cres & Proctor St\, Chisholm\, NSW\, 2905\, Australia
CATEGORIES:Fellowship
ATTACH;FMTTYPE=image/png:https://tuggeranong.lutheran.org.au/wp-content/uploads/sites/128/2024/01/DinnerChurchFlyer_Ongoing.png
ORGANIZER;CN="Zak Huggett-Wright":MAILTO:zakaryhw@gmail.com
GEO:-35.4152899;149.1301963
X-APPLE-STRUCTURED-LOCATION;VALUE=URI;X-ADDRESS=Good Shepherd Worship Centre Cnr Hambidge Cres & Proctor St Chisholm NSW 2905 Australia;X-APPLE-RADIUS=500;X-TITLE=Cnr Hambidge Cres & Proctor St:geo:149.1301963,-35.4152899
END:VEVENT
BEGIN:VEVENT
DTSTART;TZID=Australia/Sydney:20251221T150000
DTEND;TZID=Australia/Sydney:20251221T163000
DTSTAMP:20260422T085610
CREATED:20241108T021746Z
LAST-MODIFIED:20251126T010902Z
UID:10039781-1766329200-1766334600@tuggeranong.lutheran.org.au
SUMMARY:Discussion group with Jim at LDK Greenway Views
DESCRIPTION:A small\, friendly group of residents and friends of LDK Greenway Views meet with Jim Hurt from Good Shepherd for discussion. Conversation starters are from bible centred books. Held on the third Sunday of every month in the chapel at LDK Greenway Views unless otherwise advertised.
URL:https://tuggeranong.lutheran.org.au/event/discussion-group-with-jim-at-ldk-greenway-veiws-2/2025-12-21/
LOCATION:LDK Greenway Views\, 260 Soward Way\, Greenway\, Australian Capital Territory\, 2900\, Australia
CATEGORIES:Bible Study,Fellowship,Small Group
ATTACH;FMTTYPE=image/jpeg:https://tuggeranong.lutheran.org.au/wp-content/uploads/sites/128/2020/09/Greenway-Views-1.jpg
GEO:-35.4197317;149.0632525
X-APPLE-STRUCTURED-LOCATION;VALUE=URI;X-ADDRESS=LDK Greenway Views 260 Soward Way Greenway Australian Capital Territory 2900 Australia;X-APPLE-RADIUS=500;X-TITLE=260 Soward Way:geo:149.0632525,-35.4197317
END:VEVENT
BEGIN:VEVENT
DTSTART;TZID=Australia/Sydney:20251225T120000
DTEND;TZID=Australia/Sydney:20251225T140000
DTSTAMP:20260422T085610
CREATED:20251210T002852Z
LAST-MODIFIED:20251210T002852Z
UID:10041595-1766664000-1766671200@tuggeranong.lutheran.org.au
SUMMARY:Christmas Day Community Lunch
DESCRIPTION:Members of Good Shepherd are happy to provide a Community Christmas Day lunch\, held at Good Shepherd Church for all who wish to attend. The lunch will be at 12 noon and follow our Christmas Day Service which is at 9:30am.
URL:https://tuggeranong.lutheran.org.au/event/christmas-day-community-lunch/
LOCATION:Good Shepherd Worship Centre\, Cnr Hambidge Cres & Proctor St\, Chisholm\, NSW\, 2905\, Australia
CATEGORIES:Celebration,Fellowship,Mission/Outreach/Charity
ATTACH;FMTTYPE=image/jpeg:https://tuggeranong.lutheran.org.au/wp-content/uploads/sites/128/2025/12/aleix-ventayol-uLNGVwrQVMs-unsplash.jpg
GEO:-35.4152899;149.1301963
X-APPLE-STRUCTURED-LOCATION;VALUE=URI;X-ADDRESS=Good Shepherd Worship Centre Cnr Hambidge Cres & Proctor St Chisholm NSW 2905 Australia;X-APPLE-RADIUS=500;X-TITLE=Cnr Hambidge Cres & Proctor St:geo:149.1301963,-35.4152899
END:VEVENT
END:VCALENDAR